BEGIN:VCALENDAR
VERSION:2.0
PRODID:-//L&#039;Effet Papillon - ECPv6.15.17.1//NONSGML v1.0//EN
CALSCALE:GREGORIAN
METHOD:PUBLISH
X-ORIGINAL-URL:https://effetpapillon.bzh
X-WR-CALDESC:Évènements pour L&#039;Effet Papillon
REFRESH-INTERVAL;VALUE=DURATION:PT1H
X-Robots-Tag:noindex
X-PUBLISHED-TTL:PT1H
BEGIN:VTIMEZONE
TZID:Europe/Paris
BEGIN:DAYLIGHT
TZOFFSETFROM:+0100
TZOFFSETTO:+0200
TZNAME:CEST
DTSTART:20220327T010000
END:DAYLIGHT
BEGIN:STANDARD
TZOFFSETFROM:+0200
TZOFFSETTO:+0100
TZNAME:CET
DTSTART:20221030T010000
END:STANDARD
BEGIN:DAYLIGHT
TZOFFSETFROM:+0100
TZOFFSETTO:+0200
TZNAME:CEST
DTSTART:20230326T010000
END:DAYLIGHT
BEGIN:STANDARD
TZOFFSETFROM:+0200
TZOFFSETTO:+0100
TZNAME:CET
DTSTART:20231029T010000
END:STANDARD
BEGIN:DAYLIGHT
TZOFFSETFROM:+0100
TZOFFSETTO:+0200
TZNAME:CEST
DTSTART:20240331T010000
END:DAYLIGHT
BEGIN:STANDARD
TZOFFSETFROM:+0200
TZOFFSETTO:+0100
TZNAME:CET
DTSTART:20241027T010000
END:STANDARD
END:VTIMEZONE
BEGIN:VEVENT
DTSTART;TZID=Europe/Paris:20230114T100000
DTEND;TZID=Europe/Paris:20230408T190000
DTSTAMP:20260420T005612
CREATED:20230113T155152Z
LAST-MODIFIED:20230113T155152Z
UID:485-1673690400-1680980400@effetpapillon.bzh
SUMMARY:Exposition collective
DESCRIPTION:Du 14 janvier au 8 avril 2023\, venez réfléchir et voyager en découvrant l’exposition collective au premier étage de l’Effet Papillon :\n\nPoing Virgule présente ses collages\, issus d’une série intitulée « Sens de la vie »\, qui interroge sur le sens à donner\, le sens que l’on donne\, sens caché et parfois interdit.\nFrançois Puyplat\, au travers de ses photographies\, explore les recoins de la recyclerie Retritout et interroge le sens de notre société\, de nos modes de consommation et nous amène à nous questionner sur la transition que nous souhaitons.\nLe GEM L’Harmonie de Locminé a réalisé des œuvres en relief; « quand les déchets deviennent des œuvres d’art » est le résultat d’un questionnement sur les déchets et l’occasion de dresser un pont entre art et santé mentale.
URL:https://effetpapillon.bzh/event/exposition-collective/
LOCATION:Effet Papillon\, 19\, route de Locminé\, Baud\, 56150
CATEGORIES:Art
END:VEVENT
BEGIN:VEVENT
DTSTART;TZID=Europe/Paris:20230211T100000
DTEND;TZID=Europe/Paris:20230211T163000
DTSTAMP:20260420T005612
CREATED:20230131T153218Z
LAST-MODIFIED:20230131T153218Z
UID:522-1676109600-1676133000@effetpapillon.bzh
SUMMARY:Stage de handpan
DESCRIPTION:Vous souhaitez découvrir le handpan ? Vous souhaitez vous laisser emporter par les vibrations de cet instrument ?\nJulien Propose un stage de handpan pour les débutants: de 10h à 12h30 ou de 14h à 16h30.\n\n\nInscrivez-vous au 06 08 09 24 06 ou par email : diditaps@wanadoo.fr
URL:https://effetpapillon.bzh/event/stage-de-handpan/
LOCATION:Effet Papillon\, 19\, route de Locminé\, Baud\, 56150
CATEGORIES:Musique
END:VEVENT
BEGIN:VEVENT
DTSTART;TZID=Europe/Paris:20230211T103000
DTEND;TZID=Europe/Paris:20230211T123000
DTSTAMP:20260420T005612
CREATED:20230131T152301Z
LAST-MODIFIED:20230131T152301Z
UID:512-1676111400-1676118600@effetpapillon.bzh
SUMMARY:Massages solidaires
DESCRIPTION:Yve\, praticienne certifiée de la méthode Camilli\, propose des massages sensitifs à des prix solidaires: 10 euros la demie-heure. \nContactez Yve au 06 70 27 81 08 pour toute réservation ou tout renseignement.
URL:https://effetpapillon.bzh/event/massages-solidaires-2/
LOCATION:Effet Papillon\, 19\, route de Locminé\, Baud\, 56150
CATEGORIES:Bien-être
END:VEVENT
BEGIN:VEVENT
DTSTART;TZID=Europe/Paris:20230211T143000
DTEND;TZID=Europe/Paris:20230211T163000
DTSTAMP:20260420T005612
CREATED:20230131T152532Z
LAST-MODIFIED:20230131T152532Z
UID:516-1676125800-1676133000@effetpapillon.bzh
SUMMARY:Atelier d'écriture
DESCRIPTION:L’atelier d’écriture\, animé par Daphné Babin\, reprend\, tous les deuxièmes samedis du mois .\nIl mélange jeux d’écriture\, créations individuelles et collectives et lectures.\nPrix libre et conscient.\n\nPour de plus amples renseignements\, contactez Daphné au 06 58 78 11 06.
URL:https://effetpapillon.bzh/event/atelier-decriture-3/
LOCATION:Effet Papillon\, 19\, route de Locminé\, Baud\, 56150
CATEGORIES:Ecriture
END:VEVENT
END:VCALENDAR