BEGIN:VCALENDAR
VERSION:2.0
PRODID:-//L&#039;Effet Papillon - ECPv6.15.17.1//NONSGML v1.0//EN
CALSCALE:GREGORIAN
METHOD:PUBLISH
X-WR-CALNAME:L&#039;Effet Papillon
X-ORIGINAL-URL:https://effetpapillon.bzh
X-WR-CALDESC:Évènements pour L&#039;Effet Papillon
REFRESH-INTERVAL;VALUE=DURATION:PT1H
X-Robots-Tag:noindex
X-PUBLISHED-TTL:PT1H
BEGIN:VTIMEZONE
TZID:Europe/Paris
BEGIN:DAYLIGHT
TZOFFSETFROM:+0100
TZOFFSETTO:+0200
TZNAME:CEST
DTSTART:20220327T010000
END:DAYLIGHT
BEGIN:STANDARD
TZOFFSETFROM:+0200
TZOFFSETTO:+0100
TZNAME:CET
DTSTART:20221030T010000
END:STANDARD
BEGIN:DAYLIGHT
TZOFFSETFROM:+0100
TZOFFSETTO:+0200
TZNAME:CEST
DTSTART:20230326T010000
END:DAYLIGHT
BEGIN:STANDARD
TZOFFSETFROM:+0200
TZOFFSETTO:+0100
TZNAME:CET
DTSTART:20231029T010000
END:STANDARD
BEGIN:DAYLIGHT
TZOFFSETFROM:+0100
TZOFFSETTO:+0200
TZNAME:CEST
DTSTART:20240331T010000
END:DAYLIGHT
BEGIN:STANDARD
TZOFFSETFROM:+0200
TZOFFSETTO:+0100
TZNAME:CET
DTSTART:20241027T010000
END:STANDARD
END:VTIMEZONE
BEGIN:VEVENT
DTSTART;TZID=Europe/Paris:20230114T100000
DTEND;TZID=Europe/Paris:20230408T190000
DTSTAMP:20260420T005247
CREATED:20230113T155152Z
LAST-MODIFIED:20230113T155152Z
UID:485-1673690400-1680980400@effetpapillon.bzh
SUMMARY:Exposition collective
DESCRIPTION:Du 14 janvier au 8 avril 2023\, venez réfléchir et voyager en découvrant l’exposition collective au premier étage de l’Effet Papillon :\n\nPoing Virgule présente ses collages\, issus d’une série intitulée « Sens de la vie »\, qui interroge sur le sens à donner\, le sens que l’on donne\, sens caché et parfois interdit.\nFrançois Puyplat\, au travers de ses photographies\, explore les recoins de la recyclerie Retritout et interroge le sens de notre société\, de nos modes de consommation et nous amène à nous questionner sur la transition que nous souhaitons.\nLe GEM L’Harmonie de Locminé a réalisé des œuvres en relief; « quand les déchets deviennent des œuvres d’art » est le résultat d’un questionnement sur les déchets et l’occasion de dresser un pont entre art et santé mentale.
URL:https://effetpapillon.bzh/event/exposition-collective/
LOCATION:Effet Papillon\, 19\, route de Locminé\, Baud\, 56150
CATEGORIES:Art
END:VEVENT
BEGIN:VEVENT
DTSTART;TZID=Europe/Paris:20230225T103000
DTEND;TZID=Europe/Paris:20230225T123000
DTSTAMP:20260420T005247
CREATED:20230131T153656Z
LAST-MODIFIED:20230131T153656Z
UID:529-1677321000-1677328200@effetpapillon.bzh
SUMMARY:Massages solidaires
DESCRIPTION:Yve\, praticienne certifiée de la méthode Camilli\, propose des massages sensitifs à des prix solidaires: 10 euros la demie-heure. \nContactez Yve au 06 70 27 81 08 pour toute réservation ou tout renseignement.
URL:https://effetpapillon.bzh/event/massages-solidaires-3/
LOCATION:Effet Papillon\, 19\, route de Locminé\, Baud\, 56150
CATEGORIES:Bien-être
END:VEVENT
BEGIN:VEVENT
DTSTART;TZID=Europe/Paris:20230225T140000
DTEND;TZID=Europe/Paris:20230225T170000
DTSTAMP:20260420T005247
CREATED:20230131T152757Z
LAST-MODIFIED:20230131T152757Z
UID:519-1677333600-1677344400@effetpapillon.bzh
SUMMARY:Couture Papote
DESCRIPTION:Rendez-vous à l’Effet Papillon tous les derniers vendredi du mois pour échanger entre passionné.e.s de couture !\nTemps convivial autour de la couture animé par Marie-Charlotte de l’Atelier Marlotte.\nPrix libre et conscient.\n\n\nPour plus de renseignements\, contactez Marie-Charlotte au : 06 58 09 09 61.
URL:https://effetpapillon.bzh/event/couture-papote-2/
LOCATION:Effet Papillon\, 19\, route de Locminé\, Baud\, 56150
CATEGORIES:Couture
END:VEVENT
BEGIN:VEVENT
DTSTART;TZID=Europe/Paris:20230225T143000
DTEND;TZID=Europe/Paris:20230225T173000
DTSTAMP:20260420T005247
CREATED:20230131T154025Z
LAST-MODIFIED:20230131T155257Z
UID:531-1677335400-1677346200@effetpapillon.bzh
SUMMARY:Vente de crêpes
DESCRIPTION:Pour les as du tournage de crêpes\, pour les passionné.e.s de la billig\, venez tourner et tourner et tourner toute une après-midi\, garnir et et vendre les bonnes crêpes toutes chaudes ! \nPlaces limitées à 6 personnes. Réservations par mail : coworking.danslensemble@gmail.com \nEt que vous soyez pâte à tartiner\, plutôt confitures\, ou bien seulement beurre sucre\, venez faire un tour à l’Effet Papillon ! Chiner en dégustant un thé ou un café tout en se régalant de crêpes toutes chaudes faites sur place\, quoi de plus sympathique !
URL:https://effetpapillon.bzh/event/vente-de-crepes/
LOCATION:Effet Papillon\, 19\, route de Locminé\, Baud\, 56150
CATEGORIES:Cuisine
END:VEVENT
END:VCALENDAR