BEGIN:VCALENDAR
VERSION:2.0
PRODID:-//L&#039;Effet Papillon - ECPv6.15.17.1//NONSGML v1.0//EN
CALSCALE:GREGORIAN
METHOD:PUBLISH
X-ORIGINAL-URL:https://effetpapillon.bzh
X-WR-CALDESC:Évènements pour L&#039;Effet Papillon
REFRESH-INTERVAL;VALUE=DURATION:PT1H
X-Robots-Tag:noindex
X-PUBLISHED-TTL:PT1H
BEGIN:VTIMEZONE
TZID:Europe/Paris
BEGIN:DAYLIGHT
TZOFFSETFROM:+0100
TZOFFSETTO:+0200
TZNAME:CEST
DTSTART:20220327T010000
END:DAYLIGHT
BEGIN:STANDARD
TZOFFSETFROM:+0200
TZOFFSETTO:+0100
TZNAME:CET
DTSTART:20221030T010000
END:STANDARD
BEGIN:DAYLIGHT
TZOFFSETFROM:+0100
TZOFFSETTO:+0200
TZNAME:CEST
DTSTART:20230326T010000
END:DAYLIGHT
BEGIN:STANDARD
TZOFFSETFROM:+0200
TZOFFSETTO:+0100
TZNAME:CET
DTSTART:20231029T010000
END:STANDARD
BEGIN:DAYLIGHT
TZOFFSETFROM:+0100
TZOFFSETTO:+0200
TZNAME:CEST
DTSTART:20240331T010000
END:DAYLIGHT
BEGIN:STANDARD
TZOFFSETFROM:+0200
TZOFFSETTO:+0100
TZNAME:CET
DTSTART:20241027T010000
END:STANDARD
END:VTIMEZONE
BEGIN:VEVENT
DTSTART;TZID=Europe/Paris:20230114T100000
DTEND;TZID=Europe/Paris:20230408T190000
DTSTAMP:20260419T233242
CREATED:20230113T155152Z
LAST-MODIFIED:20230113T155152Z
UID:485-1673690400-1680980400@effetpapillon.bzh
SUMMARY:Exposition collective
DESCRIPTION:Du 14 janvier au 8 avril 2023\, venez réfléchir et voyager en découvrant l’exposition collective au premier étage de l’Effet Papillon :\n\nPoing Virgule présente ses collages\, issus d’une série intitulée « Sens de la vie »\, qui interroge sur le sens à donner\, le sens que l’on donne\, sens caché et parfois interdit.\nFrançois Puyplat\, au travers de ses photographies\, explore les recoins de la recyclerie Retritout et interroge le sens de notre société\, de nos modes de consommation et nous amène à nous questionner sur la transition que nous souhaitons.\nLe GEM L’Harmonie de Locminé a réalisé des œuvres en relief; « quand les déchets deviennent des œuvres d’art » est le résultat d’un questionnement sur les déchets et l’occasion de dresser un pont entre art et santé mentale.
URL:https://effetpapillon.bzh/event/exposition-collective/
LOCATION:Effet Papillon\, 19\, route de Locminé\, Baud\, 56150
CATEGORIES:Art
END:VEVENT
BEGIN:VEVENT
DTSTART;TZID=Europe/Paris:20230307T140000
DTEND;TZID=Europe/Paris:20230307T160000
DTSTAMP:20260419T233242
CREATED:20230223T150807Z
LAST-MODIFIED:20230223T150807Z
UID:559-1678197600-1678204800@effetpapillon.bzh
SUMMARY:Atelier tricot et crochet
DESCRIPTION:Rendez-vous tous les mardis de 14h à 16h dans nos locaux ! Que vous soyez expert.e ou débutant.e\, venez partager ou découvrir au fil de cet atelier animé par Anne ! Prix libre et conscient.
URL:https://effetpapillon.bzh/event/atelier-tricot-et-crochet-5/
LOCATION:Effet Papillon\, 19\, route de Locminé\, Baud\, 56150
END:VEVENT
BEGIN:VEVENT
DTSTART;TZID=Europe/Paris:20230307T180000
DTEND;TZID=Europe/Paris:20230307T190000
DTSTAMP:20260419T233242
CREATED:20230221T124734Z
LAST-MODIFIED:20230221T124734Z
UID:554-1678212000-1678215600@effetpapillon.bzh
SUMMARY:Yoga du rire
DESCRIPTION:Rire pour renforcer son système immunitaire\, rire pour chasser le stress\, rire à plusieurs pour gagner en bien-être et en positif… Sylvie propose des séances de yoga du rire à l’Effet Papillon deux mardis par mois\, de 18h à 19h15. Inscriptions et renseignements: sylvie.tronscorff@orange.fr ou 06 83 68 69 46.
URL:https://effetpapillon.bzh/event/yoga-du-rire-5/
LOCATION:Effet Papillon\, 19\, route de Locminé\, Baud\, 56150
CATEGORIES:Bien-être
END:VEVENT
END:VCALENDAR