BEGIN:VCALENDAR
VERSION:2.0
PRODID:-//L&#039;Effet Papillon - ECPv6.15.17.1//NONSGML v1.0//EN
CALSCALE:GREGORIAN
METHOD:PUBLISH
X-WR-CALNAME:L&#039;Effet Papillon
X-ORIGINAL-URL:https://effetpapillon.bzh
X-WR-CALDESC:Évènements pour L&#039;Effet Papillon
REFRESH-INTERVAL;VALUE=DURATION:PT1H
X-Robots-Tag:noindex
X-PUBLISHED-TTL:PT1H
BEGIN:VTIMEZONE
TZID:Europe/Paris
BEGIN:DAYLIGHT
TZOFFSETFROM:+0100
TZOFFSETTO:+0200
TZNAME:CEST
DTSTART:20220327T010000
END:DAYLIGHT
BEGIN:STANDARD
TZOFFSETFROM:+0200
TZOFFSETTO:+0100
TZNAME:CET
DTSTART:20221030T010000
END:STANDARD
BEGIN:DAYLIGHT
TZOFFSETFROM:+0100
TZOFFSETTO:+0200
TZNAME:CEST
DTSTART:20230326T010000
END:DAYLIGHT
BEGIN:STANDARD
TZOFFSETFROM:+0200
TZOFFSETTO:+0100
TZNAME:CET
DTSTART:20231029T010000
END:STANDARD
BEGIN:DAYLIGHT
TZOFFSETFROM:+0100
TZOFFSETTO:+0200
TZNAME:CEST
DTSTART:20240331T010000
END:DAYLIGHT
BEGIN:STANDARD
TZOFFSETFROM:+0200
TZOFFSETTO:+0100
TZNAME:CET
DTSTART:20241027T010000
END:STANDARD
END:VTIMEZONE
BEGIN:VEVENT
DTSTART;TZID=Europe/Paris:20230114T100000
DTEND;TZID=Europe/Paris:20230408T190000
DTSTAMP:20260419T233043
CREATED:20230113T155152Z
LAST-MODIFIED:20230113T155152Z
UID:485-1673690400-1680980400@effetpapillon.bzh
SUMMARY:Exposition collective
DESCRIPTION:Du 14 janvier au 8 avril 2023\, venez réfléchir et voyager en découvrant l’exposition collective au premier étage de l’Effet Papillon :\n\nPoing Virgule présente ses collages\, issus d’une série intitulée « Sens de la vie »\, qui interroge sur le sens à donner\, le sens que l’on donne\, sens caché et parfois interdit.\nFrançois Puyplat\, au travers de ses photographies\, explore les recoins de la recyclerie Retritout et interroge le sens de notre société\, de nos modes de consommation et nous amène à nous questionner sur la transition que nous souhaitons.\nLe GEM L’Harmonie de Locminé a réalisé des œuvres en relief; « quand les déchets deviennent des œuvres d’art » est le résultat d’un questionnement sur les déchets et l’occasion de dresser un pont entre art et santé mentale.
URL:https://effetpapillon.bzh/event/exposition-collective/
LOCATION:Effet Papillon\, 19\, route de Locminé\, Baud\, 56150
CATEGORIES:Art
END:VEVENT
BEGIN:VEVENT
DTSTART;TZID=Europe/Paris:20230324T140000
DTEND;TZID=Europe/Paris:20230329T183000
DTSTAMP:20260419T233043
CREATED:20230223T152017Z
LAST-MODIFIED:20230223T152017Z
UID:577-1679666400-1680114600@effetpapillon.bzh
SUMMARY:Braderie textile
DESCRIPTION:Du vendredi 24 mars au mercredi 29 mars\, c’est la braderie textile à l’Effet Papillon\, juste avant le changement de saison: venez vous habiller et faire vos stocks de vêtements pour l’hiver prochain à -50% ! \nAux heures d’ouverture du magasin\, hors linge de maison et hors articles étiquetés spécialement.
URL:https://effetpapillon.bzh/event/braderie-textile/
LOCATION:Effet Papillon\, 19\, route de Locminé\, Baud\, 56150
CATEGORIES:Réemploi
END:VEVENT
BEGIN:VEVENT
DTSTART;TZID=Europe/Paris:20230325T103000
DTEND;TZID=Europe/Paris:20230325T120000
DTSTAMP:20260419T233043
CREATED:20230223T152545Z
LAST-MODIFIED:20230223T152545Z
UID:581-1679740200-1679745600@effetpapillon.bzh
SUMMARY:Inauguration du verger citoyen: petites plantations et atelier de fabrication de bombes à graines
DESCRIPTION:Venez découvrir le Verger citoyen\, initiative partagée entre la mairie de Baud et l’association Dans l’Ensemble: quels fruitiers ont été plantés\, comment réaliser une cabane vivante\, quels sont les projets sur ce verger … Ce sera aussi l’occasion de participer à la plantation de petits fruitiers et de réaliser des bombes à graines afin de fleurir vos jardins et les bas-côtés que vous trouvez tristounets ! \nCette demie-journée a lieu dans le cadre de « Blavet au Naturel » et s’inscrit dans la Semaine Pour les Alternatives aux Pesticides.
URL:https://effetpapillon.bzh/event/inauguration-du-verger-citoyen-petites-plantations-et-atelier-de-fabrication-de-bombes-a-graines/
LOCATION:Effet Papillon\, 19\, route de Locminé\, Baud\, 56150
CATEGORIES:Environnement
END:VEVENT
BEGIN:VEVENT
DTSTART;TZID=Europe/Paris:20230325T103000
DTEND;TZID=Europe/Paris:20230325T123000
DTSTAMP:20260419T233043
CREATED:20230223T151652Z
LAST-MODIFIED:20230223T151652Z
UID:575-1679740200-1679747400@effetpapillon.bzh
SUMMARY:Massages solidaires
DESCRIPTION:Yve\, praticienne certifiée de la méthode Camilli\, propose des massages sensitifs à des prix solidaires: 10 euros la demie-heure. \nContactez Yve au 06 70 27 81 08 pour toute réservation ou tout renseignement.
URL:https://effetpapillon.bzh/event/massages-solidaires-5/
LOCATION:Effet Papillon\, 19\, route de Locminé\, Baud\, 56150
CATEGORIES:Bien-être
END:VEVENT
BEGIN:VEVENT
DTSTART;TZID=Europe/Paris:20230325T140000
DTEND;TZID=Europe/Paris:20230325T170000
DTSTAMP:20260419T233043
CREATED:20230223T152130Z
LAST-MODIFIED:20230223T152130Z
UID:579-1679752800-1679763600@effetpapillon.bzh
SUMMARY:Atelier Couture Papote
DESCRIPTION:Marie-Charlotte\, de l’Atelier Marlotte\, vous propose de venir partager vos expériences de couture et de venir coudre en papotant ! Attention\, il s’agit d’un moment passé à coudre à plusieurs\, et non pas d’un cours ! \nInscriptions au 06 58 09 09 61.
URL:https://effetpapillon.bzh/event/atelier-couture-papote/
LOCATION:Effet Papillon\, 19\, route de Locminé\, Baud\, 56150
CATEGORIES:Artisanat
END:VEVENT
END:VCALENDAR