BEGIN:VCALENDAR
VERSION:2.0
PRODID:-//L&#039;Effet Papillon - ECPv6.15.17.1//NONSGML v1.0//EN
CALSCALE:GREGORIAN
METHOD:PUBLISH
X-ORIGINAL-URL:https://effetpapillon.bzh
X-WR-CALDESC:Évènements pour L&#039;Effet Papillon
REFRESH-INTERVAL;VALUE=DURATION:PT1H
X-Robots-Tag:noindex
X-PUBLISHED-TTL:PT1H
BEGIN:VTIMEZONE
TZID:Europe/Paris
BEGIN:DAYLIGHT
TZOFFSETFROM:+0100
TZOFFSETTO:+0200
TZNAME:CEST
DTSTART:20220327T010000
END:DAYLIGHT
BEGIN:STANDARD
TZOFFSETFROM:+0200
TZOFFSETTO:+0100
TZNAME:CET
DTSTART:20221030T010000
END:STANDARD
BEGIN:DAYLIGHT
TZOFFSETFROM:+0100
TZOFFSETTO:+0200
TZNAME:CEST
DTSTART:20230326T010000
END:DAYLIGHT
BEGIN:STANDARD
TZOFFSETFROM:+0200
TZOFFSETTO:+0100
TZNAME:CET
DTSTART:20231029T010000
END:STANDARD
BEGIN:DAYLIGHT
TZOFFSETFROM:+0100
TZOFFSETTO:+0200
TZNAME:CEST
DTSTART:20240331T010000
END:DAYLIGHT
BEGIN:STANDARD
TZOFFSETFROM:+0200
TZOFFSETTO:+0100
TZNAME:CET
DTSTART:20241027T010000
END:STANDARD
END:VTIMEZONE
BEGIN:VEVENT
DTSTART;TZID=Europe/Paris:20230418T140000
DTEND;TZID=Europe/Paris:20230418T160000
DTSTAMP:20260419T215634
CREATED:20230322T131740Z
LAST-MODIFIED:20230322T131740Z
UID:630-1681826400-1681833600@effetpapillon.bzh
SUMMARY:Atelier tricot et crochet
DESCRIPTION:Rendez-vous tous les mardis de 14h à 16h dans nos locaux ! Que vous soyez expert.e ou débutant.e\, venez partager ou découvrir au fil de cet atelier animé par Anne ! Prix libre et conscient.
URL:https://effetpapillon.bzh/event/atelier-tricot-et-crochet-11/
LOCATION:Effet Papillon\, 19\, route de Locminé\, Baud\, 56150
CATEGORIES:Artisanat
END:VEVENT
BEGIN:VEVENT
DTSTART;TZID=Europe/Paris:20230418T180000
DTEND;TZID=Europe/Paris:20230418T190000
DTSTAMP:20260419T215634
CREATED:20230322T132945Z
LAST-MODIFIED:20230322T132945Z
UID:640-1681840800-1681844400@effetpapillon.bzh
SUMMARY:Yoga du rire
DESCRIPTION:Rire pour renforcer son système immunitaire\, rire pour chasser le stress\, rire à plusieurs pour gagner en bien-être et en positif…\nSylvie propose des séances de yoga du rire à l’Effet Papillon deux mardis par mois\, de 18h à 19h15.\n\n\n\nInscriptions et renseignements: sylvie.tronscorff@orange.fr ou 06 83 68 69 46.
URL:https://effetpapillon.bzh/event/yoga-du-rire-8/
LOCATION:Effet Papillon\, 19\, route de Locminé\, Baud\, 56150
CATEGORIES:Bien-être
END:VEVENT
END:VCALENDAR