BEGIN:VCALENDAR
VERSION:2.0
PRODID:-//L&#039;Effet Papillon - ECPv6.15.17.1//NONSGML v1.0//EN
CALSCALE:GREGORIAN
METHOD:PUBLISH
X-WR-CALNAME:L&#039;Effet Papillon
X-ORIGINAL-URL:https://effetpapillon.bzh
X-WR-CALDESC:Évènements pour L&#039;Effet Papillon
REFRESH-INTERVAL;VALUE=DURATION:PT1H
X-Robots-Tag:noindex
X-PUBLISHED-TTL:PT1H
BEGIN:VTIMEZONE
TZID:Europe/Paris
BEGIN:DAYLIGHT
TZOFFSETFROM:+0100
TZOFFSETTO:+0200
TZNAME:CEST
DTSTART:20220327T010000
END:DAYLIGHT
BEGIN:STANDARD
TZOFFSETFROM:+0200
TZOFFSETTO:+0100
TZNAME:CET
DTSTART:20221030T010000
END:STANDARD
BEGIN:DAYLIGHT
TZOFFSETFROM:+0100
TZOFFSETTO:+0200
TZNAME:CEST
DTSTART:20230326T010000
END:DAYLIGHT
BEGIN:STANDARD
TZOFFSETFROM:+0200
TZOFFSETTO:+0100
TZNAME:CET
DTSTART:20231029T010000
END:STANDARD
BEGIN:DAYLIGHT
TZOFFSETFROM:+0100
TZOFFSETTO:+0200
TZNAME:CEST
DTSTART:20240331T010000
END:DAYLIGHT
BEGIN:STANDARD
TZOFFSETFROM:+0200
TZOFFSETTO:+0100
TZNAME:CET
DTSTART:20241027T010000
END:STANDARD
END:VTIMEZONE
BEGIN:VEVENT
DTSTART;TZID=Europe/Paris:20230429T100000
DTEND;TZID=Europe/Paris:20230429T163000
DTSTAMP:20260419T215347
CREATED:20230331T144015Z
LAST-MODIFIED:20230331T144015Z
UID:672-1682762400-1682785800@effetpapillon.bzh
SUMMARY:Journée Handpan
DESCRIPTION:Julien Coste revient pour une nouvelle journée de handpan ! \nMatinée (10h-12h30) consacrée à de l’initiation (et non plus découverte). \nAprès-midi (14h-16h30) consacrée aux musiciens confirmés. \n  \nPour plus de renseignements et pour toute réservation\, veuillez contacter Odile : 06 08 09 24 06 ou diditaps@wanadoo.fr \n 
URL:https://effetpapillon.bzh/event/journee-handpan/
LOCATION:Effet Papillon\, 19\, route de Locminé\, Baud\, 56150
CATEGORIES:Musique
END:VEVENT
BEGIN:VEVENT
DTSTART;TZID=Europe/Paris:20230429T140000
DTEND;TZID=Europe/Paris:20230429T170000
DTSTAMP:20260419T215347
CREATED:20230322T131957Z
LAST-MODIFIED:20230322T131957Z
UID:634-1682776800-1682787600@effetpapillon.bzh
SUMMARY:Atelier Couture / Papote
DESCRIPTION:Marie-Charlotte\, de l’Atelier Marlotte\, vous propose de venir partager vos expériences de couture et de venir coudre en papotant ! Attention\, il s’agit d’un moment passé à coudre à plusieurs\, et non pas d’un cours ! Inscriptions au 06 58 09 09 61.
URL:https://effetpapillon.bzh/event/atelier-couture-papote-2/
LOCATION:Effet Papillon\, 19\, route de Locminé\, Baud\, 56150
CATEGORIES:Artisanat
END:VEVENT
END:VCALENDAR