BEGIN:VCALENDAR
VERSION:2.0
PRODID:-//L&#039;Effet Papillon - ECPv6.15.17.1//NONSGML v1.0//EN
CALSCALE:GREGORIAN
METHOD:PUBLISH
X-WR-CALNAME:L&#039;Effet Papillon
X-ORIGINAL-URL:https://effetpapillon.bzh
X-WR-CALDESC:Évènements pour L&#039;Effet Papillon
REFRESH-INTERVAL;VALUE=DURATION:PT1H
X-Robots-Tag:noindex
X-PUBLISHED-TTL:PT1H
BEGIN:VTIMEZONE
TZID:Europe/Paris
BEGIN:DAYLIGHT
TZOFFSETFROM:+0100
TZOFFSETTO:+0200
TZNAME:CEST
DTSTART:20220327T010000
END:DAYLIGHT
BEGIN:STANDARD
TZOFFSETFROM:+0200
TZOFFSETTO:+0100
TZNAME:CET
DTSTART:20221030T010000
END:STANDARD
BEGIN:DAYLIGHT
TZOFFSETFROM:+0100
TZOFFSETTO:+0200
TZNAME:CEST
DTSTART:20230326T010000
END:DAYLIGHT
BEGIN:STANDARD
TZOFFSETFROM:+0200
TZOFFSETTO:+0100
TZNAME:CET
DTSTART:20231029T010000
END:STANDARD
BEGIN:DAYLIGHT
TZOFFSETFROM:+0100
TZOFFSETTO:+0200
TZNAME:CEST
DTSTART:20240331T010000
END:DAYLIGHT
BEGIN:STANDARD
TZOFFSETFROM:+0200
TZOFFSETTO:+0100
TZNAME:CET
DTSTART:20241027T010000
END:STANDARD
END:VTIMEZONE
BEGIN:VEVENT
DTSTART;TZID=Europe/Paris:20230502T080000
DTEND;TZID=Europe/Paris:20230715T170000
DTSTAMP:20260419T201707
CREATED:20230502T132909Z
LAST-MODIFIED:20230502T132909Z
UID:717-1683014400-1689440400@effetpapillon.bzh
SUMMARY:Exposition Imaginarium
DESCRIPTION:Du 15 avril à la mi-juillet\, entrez dans « Imaginarium » \, un univers décalé\, entre onirisme\, surréalisme\, humour et invitation au voyage poétique d’un collectif d’artistes dunkerquois !
URL:https://effetpapillon.bzh/event/exposition-imaginarium/
LOCATION:Effet Papillon\, 19\, route de Locminé\, Baud\, 56150
CATEGORIES:Art
END:VEVENT
BEGIN:VEVENT
DTSTART;TZID=Europe/Paris:20230510T150000
DTEND;TZID=Europe/Paris:20230510T163000
DTSTAMP:20260419T201707
CREATED:20230502T132051Z
LAST-MODIFIED:20230502T132051Z
UID:705-1683730800-1683736200@effetpapillon.bzh
SUMMARY:Atelier fabrication de bombes à graines
DESCRIPTION:Puisque c’est le printemps\, l’Effet Papillon vous propose un temps pour mettre les mains dans la terre\, en famille\, pour pouvoir faire par la suite quelques attentats végétaux : atelier bombes à graines. Accessible dès 4 ans\, à prix libre. Réservations: coworking.danslensemble@gmail.com
URL:https://effetpapillon.bzh/event/atelier-fabrication-de-bombes-a-graines/
LOCATION:Effet Papillon\, 19\, route de Locminé\, Baud\, 56150
CATEGORIES:Environnement
END:VEVENT
END:VCALENDAR