BEGIN:VCALENDAR
VERSION:2.0
PRODID:-//L&#039;Effet Papillon - ECPv6.15.17.1//NONSGML v1.0//EN
CALSCALE:GREGORIAN
METHOD:PUBLISH
X-ORIGINAL-URL:https://effetpapillon.bzh
X-WR-CALDESC:Évènements pour L&#039;Effet Papillon
REFRESH-INTERVAL;VALUE=DURATION:PT1H
X-Robots-Tag:noindex
X-PUBLISHED-TTL:PT1H
BEGIN:VTIMEZONE
TZID:Europe/Paris
BEGIN:DAYLIGHT
TZOFFSETFROM:+0100
TZOFFSETTO:+0200
TZNAME:CEST
DTSTART:20220327T010000
END:DAYLIGHT
BEGIN:STANDARD
TZOFFSETFROM:+0200
TZOFFSETTO:+0100
TZNAME:CET
DTSTART:20221030T010000
END:STANDARD
BEGIN:DAYLIGHT
TZOFFSETFROM:+0100
TZOFFSETTO:+0200
TZNAME:CEST
DTSTART:20230326T010000
END:DAYLIGHT
BEGIN:STANDARD
TZOFFSETFROM:+0200
TZOFFSETTO:+0100
TZNAME:CET
DTSTART:20231029T010000
END:STANDARD
BEGIN:DAYLIGHT
TZOFFSETFROM:+0100
TZOFFSETTO:+0200
TZNAME:CEST
DTSTART:20240331T010000
END:DAYLIGHT
BEGIN:STANDARD
TZOFFSETFROM:+0200
TZOFFSETTO:+0100
TZNAME:CET
DTSTART:20241027T010000
END:STANDARD
END:VTIMEZONE
BEGIN:VEVENT
DTSTART;TZID=Europe/Paris:20230502T080000
DTEND;TZID=Europe/Paris:20230715T170000
DTSTAMP:20260419T184620
CREATED:20230502T132909Z
LAST-MODIFIED:20230502T132909Z
UID:717-1683014400-1689440400@effetpapillon.bzh
SUMMARY:Exposition Imaginarium
DESCRIPTION:Du 15 avril à la mi-juillet\, entrez dans « Imaginarium » \, un univers décalé\, entre onirisme\, surréalisme\, humour et invitation au voyage poétique d’un collectif d’artistes dunkerquois !
URL:https://effetpapillon.bzh/event/exposition-imaginarium/
LOCATION:Effet Papillon\, 19\, route de Locminé\, Baud\, 56150
CATEGORIES:Art
END:VEVENT
BEGIN:VEVENT
DTSTART;TZID=Europe/Paris:20230610T100000
DTEND;TZID=Europe/Paris:20230610T123000
DTSTAMP:20260419T184620
CREATED:20230525T134709Z
LAST-MODIFIED:20230525T134709Z
UID:747-1686391200-1686400200@effetpapillon.bzh
SUMMARY:Cours de handpan
DESCRIPTION:Julien Coste et ses cours de handpan reviennent à l’Effet Papillon le samedi 10 juin\, de 10h à 12h30 !\nMatinée réservée à des cours d’initiation et non plus à de la découverte !\nTarif: 50 euros.\nInformations et réservations: 06 08 09 24 06
URL:https://effetpapillon.bzh/event/cours-de-handpan/
LOCATION:Effet Papillon\, 19\, route de Locminé\, Baud\, 56150
CATEGORIES:Musique
END:VEVENT
BEGIN:VEVENT
DTSTART;TZID=Europe/Paris:20230610T143000
DTEND;TZID=Europe/Paris:20230610T163000
DTSTAMP:20260419T184620
CREATED:20230525T134823Z
LAST-MODIFIED:20230525T134823Z
UID:749-1686407400-1686414600@effetpapillon.bzh
SUMMARY:Atelier d'écriture
DESCRIPTION:L’atelier d’écriture\, animé par Daphné Babin\, reprend\, tous les deuxièmes samedis du mois .\nIl mélange jeux d’écriture\, créations individuelles et collectives et lectures.\nPrix libre et conscient.\n\nPour de plus amples renseignements\, contactez Daphné au 06 58 78 11 06.
URL:https://effetpapillon.bzh/event/atelier-decriture-7/
LOCATION:Effet Papillon\, 19\, route de Locminé\, Baud\, 56150
CATEGORIES:Ecriture
END:VEVENT
END:VCALENDAR