BEGIN:VCALENDAR
VERSION:2.0
PRODID:-//L&#039;Effet Papillon - ECPv6.15.17.1//NONSGML v1.0//EN
CALSCALE:GREGORIAN
METHOD:PUBLISH
X-WR-CALNAME:L&#039;Effet Papillon
X-ORIGINAL-URL:https://effetpapillon.bzh
X-WR-CALDESC:Évènements pour L&#039;Effet Papillon
REFRESH-INTERVAL;VALUE=DURATION:PT1H
X-Robots-Tag:noindex
X-PUBLISHED-TTL:PT1H
BEGIN:VTIMEZONE
TZID:Europe/Paris
BEGIN:DAYLIGHT
TZOFFSETFROM:+0100
TZOFFSETTO:+0200
TZNAME:CEST
DTSTART:20220327T010000
END:DAYLIGHT
BEGIN:STANDARD
TZOFFSETFROM:+0200
TZOFFSETTO:+0100
TZNAME:CET
DTSTART:20221030T010000
END:STANDARD
BEGIN:DAYLIGHT
TZOFFSETFROM:+0100
TZOFFSETTO:+0200
TZNAME:CEST
DTSTART:20230326T010000
END:DAYLIGHT
BEGIN:STANDARD
TZOFFSETFROM:+0200
TZOFFSETTO:+0100
TZNAME:CET
DTSTART:20231029T010000
END:STANDARD
BEGIN:DAYLIGHT
TZOFFSETFROM:+0100
TZOFFSETTO:+0200
TZNAME:CEST
DTSTART:20240331T010000
END:DAYLIGHT
BEGIN:STANDARD
TZOFFSETFROM:+0200
TZOFFSETTO:+0100
TZNAME:CET
DTSTART:20241027T010000
END:STANDARD
END:VTIMEZONE
BEGIN:VEVENT
DTSTART;TZID=Europe/Paris:20230103T140000
DTEND;TZID=Europe/Paris:20230103T170000
DTSTAMP:20260420T005401
CREATED:20221223T131449Z
LAST-MODIFIED:20221223T131449Z
UID:445-1672754400-1672765200@effetpapillon.bzh
SUMMARY:Tricot et crochet
DESCRIPTION:Anne\, grande amatrice de fils\, vous invite à vous essayer ou vous perfectionner au tricot et au crochet. \nInscription au 09 51 58 11 50.
URL:https://effetpapillon.bzh/event/tricot-et-crochet/
LOCATION:Effet Papillon\, 19\, route de Locminé\, Baud\, 56150
CATEGORIES:Artisanat
END:VEVENT
BEGIN:VEVENT
DTSTART;TZID=Europe/Paris:20230105T150000
DTEND;TZID=Europe/Paris:20230105T170000
DTSTAMP:20260420T005401
CREATED:20221220T102759Z
LAST-MODIFIED:20221220T102759Z
UID:422-1672930800-1672938000@effetpapillon.bzh
SUMMARY:Plantation de saules et Tutorat de petits fruitiers
DESCRIPTION:Le Verger citoyen se prépare à accueillir un square citoyen: venez participer à la plantation des saules qui nous permettront de donner naissance à une cabane vivante et au tutorat des petits fruitiers pour les aider dans leur croissance.
URL:https://effetpapillon.bzh/event/plantation-de-saules-et-tutorat-de-petits-fruitiers/
LOCATION:Effet Papillon\, 19\, route de Locminé\, Baud\, 56150
CATEGORIES:Environnement
END:VEVENT
BEGIN:VEVENT
DTSTART;TZID=Europe/Paris:20230107T103000
DTEND;TZID=Europe/Paris:20230107T120000
DTSTAMP:20260420T005401
CREATED:20221223T132246Z
LAST-MODIFIED:20221223T132246Z
UID:459-1673087400-1673092800@effetpapillon.bzh
SUMMARY:Massages solidaires
DESCRIPTION:Yve\, praticienne certifiée de la Méthode Camilli\, propose des massages solidaires les samedis matins. \nTarif: 10 euros la demie-heure. \nRéservations au 06 70 27 81 08
URL:https://effetpapillon.bzh/event/massages-solidaires/
LOCATION:Effet Papillon\, 19\, route de Locminé\, Baud\, 56150
END:VEVENT
BEGIN:VEVENT
DTSTART;TZID=Europe/Paris:20230110T140000
DTEND;TZID=Europe/Paris:20230110T170000
DTSTAMP:20260420T005401
CREATED:20221223T131538Z
LAST-MODIFIED:20221223T131538Z
UID:447-1673359200-1673370000@effetpapillon.bzh
SUMMARY:Tricot et crochet
DESCRIPTION:Anne\, grande amatrice de fils\, vous invite à vous essayer ou vous perfectionner au tricot et au crochet. \nInscription au 09 51 58 11 50.
URL:https://effetpapillon.bzh/event/tricot-et-crochet-2/
LOCATION:Effet Papillon\, 19\, route de Locminé\, Baud\, 56150
CATEGORIES:Artisanat
END:VEVENT
BEGIN:VEVENT
DTSTART;TZID=Europe/Paris:20230110T180000
DTEND;TZID=Europe/Paris:20230110T190000
DTSTAMP:20260420T005401
CREATED:20221220T105205Z
LAST-MODIFIED:20221220T105205Z
UID:432-1673373600-1673377200@effetpapillon.bzh
SUMMARY:Yoga du rire
DESCRIPTION:Envie de débuter cette nouvelle année sous le signe du rire et de la décompression ? Venez participer aux côtés de Sylvie aux séances de yoga du rire !
URL:https://effetpapillon.bzh/event/yoga-du-rire/
LOCATION:Effet Papillon\, 19\, route de Locminé\, Baud\, 56150
CATEGORIES:Bien-être
END:VEVENT
BEGIN:VEVENT
DTSTART;TZID=Europe/Paris:20230114T100000
DTEND;TZID=Europe/Paris:20230408T190000
DTSTAMP:20260420T005401
CREATED:20230113T155152Z
LAST-MODIFIED:20230113T155152Z
UID:485-1673690400-1680980400@effetpapillon.bzh
SUMMARY:Exposition collective
DESCRIPTION:Du 14 janvier au 8 avril 2023\, venez réfléchir et voyager en découvrant l’exposition collective au premier étage de l’Effet Papillon :\n\nPoing Virgule présente ses collages\, issus d’une série intitulée « Sens de la vie »\, qui interroge sur le sens à donner\, le sens que l’on donne\, sens caché et parfois interdit.\nFrançois Puyplat\, au travers de ses photographies\, explore les recoins de la recyclerie Retritout et interroge le sens de notre société\, de nos modes de consommation et nous amène à nous questionner sur la transition que nous souhaitons.\nLe GEM L’Harmonie de Locminé a réalisé des œuvres en relief; « quand les déchets deviennent des œuvres d’art » est le résultat d’un questionnement sur les déchets et l’occasion de dresser un pont entre art et santé mentale.
URL:https://effetpapillon.bzh/event/exposition-collective/
LOCATION:Effet Papillon\, 19\, route de Locminé\, Baud\, 56150
CATEGORIES:Art
END:VEVENT
BEGIN:VEVENT
DTSTART;TZID=Europe/Paris:20230114T103000
DTEND;TZID=Europe/Paris:20230114T120000
DTSTAMP:20260420T005401
CREATED:20221223T132320Z
LAST-MODIFIED:20221223T132320Z
UID:461-1673692200-1673697600@effetpapillon.bzh
SUMMARY:Massage solidaire
DESCRIPTION:Yve\, praticienne certifiée de la Méthode Camilli\, propose des massages solidaires les samedis matins. \nTarif: 10 euros la demie-heure. \nRéservations au 06 70 27 81 08
URL:https://effetpapillon.bzh/event/massage-solidaire/
LOCATION:Effet Papillon\, 19\, route de Locminé\, Baud\, 56150
CATEGORIES:Bien-être
END:VEVENT
BEGIN:VEVENT
DTSTART;TZID=Europe/Paris:20230114T143000
DTEND;TZID=Europe/Paris:20230114T163000
DTSTAMP:20260420T005401
CREATED:20221220T105019Z
LAST-MODIFIED:20221220T105019Z
UID:429-1673706600-1673713800@effetpapillon.bzh
SUMMARY:Atelier "Et si on parlait de ménopause ?"
DESCRIPTION:Céline Roger\, formée en sexologie\, propose un espace de discussions\, d’échanges et de solutions concernant la ménopause. Cet atelier s’adresse à toutes\, ménopausées ou non !
URL:https://effetpapillon.bzh/event/atelier-et-si-on-parlait-de-menopause/
LOCATION:Effet Papillon\, 19\, route de Locminé\, Baud\, 56150
CATEGORIES:Bien-être
END:VEVENT
BEGIN:VEVENT
DTSTART;TZID=Europe/Paris:20230114T143000
DTEND;TZID=Europe/Paris:20230114T163000
DTSTAMP:20260420T005401
CREATED:20221223T131903Z
LAST-MODIFIED:20221223T131903Z
UID:455-1673706600-1673713800@effetpapillon.bzh
SUMMARY:Atelier d'écriture
DESCRIPTION:Daphnée Babin anime un atelier d’écriture\, de quoi aiguiser votre plume ! \nInscriptions au 06 58 78 11 06
URL:https://effetpapillon.bzh/event/atelier-decriture-2/
LOCATION:Effet Papillon\, 19\, route de Locminé\, Baud\, 56150
CATEGORIES:Ecriture
END:VEVENT
BEGIN:VEVENT
DTSTART;TZID=Europe/Paris:20230117T140000
DTEND;TZID=Europe/Paris:20230117T170000
DTSTAMP:20260420T005401
CREATED:20221223T131616Z
LAST-MODIFIED:20221223T131616Z
UID:449-1673964000-1673974800@effetpapillon.bzh
SUMMARY:Tricot et crochet
DESCRIPTION:Anne\, grande amatrice de fils\, vous invite à vous essayer ou vous perfectionner au tricot et au crochet. \nInscription au 09 51 58 11 50.
URL:https://effetpapillon.bzh/event/tricot-et-crochet-3/
LOCATION:Effet Papillon\, 19\, route de Locminé\, Baud\, 56150
CATEGORIES:Artisanat
END:VEVENT
BEGIN:VEVENT
DTSTART;TZID=Europe/Paris:20230118T140000
DTEND;TZID=Europe/Paris:20230118T160000
DTSTAMP:20260420T005401
CREATED:20221223T132800Z
LAST-MODIFIED:20221223T132800Z
UID:469-1674050400-1674057600@effetpapillon.bzh
SUMMARY:Atelier collage
DESCRIPTION:Envie de fabriquer vous-même vos cartes de voeux ? Envie de réaliser dans une ambiance collective une petite oeuvre d’art ? \nAtelier à prix libre\, inscriptions au 09 51 58 11 50
URL:https://effetpapillon.bzh/event/atelier-collage/
LOCATION:Effet Papillon\, 19\, route de Locminé\, Baud\, 56150
CATEGORIES:Art,Artisanat
END:VEVENT
BEGIN:VEVENT
DTSTART;TZID=Europe/Paris:20230121T100000
DTEND;TZID=Europe/Paris:20230121T170000
DTSTAMP:20260420T005401
CREATED:20221223T132622Z
LAST-MODIFIED:20221223T132622Z
UID:467-1674295200-1674320400@effetpapillon.bzh
SUMMARY:Atelier de handpan
DESCRIPTION:Julien Coste vous invite à la découverte du handpan. \n10h-12h30 pour les débutants \n14h-16h30 pour les confirmés \n35 euros la demie-journée. \nInscriptions au 06 08 09 24 06
URL:https://effetpapillon.bzh/event/atelier-de-handpan/
LOCATION:Effet Papillon\, 19\, route de Locminé\, Baud\, 56150
CATEGORIES:Musique
END:VEVENT
BEGIN:VEVENT
DTSTART;TZID=Europe/Paris:20230121T103000
DTEND;TZID=Europe/Paris:20230121T120000
DTSTAMP:20260420T005401
CREATED:20221223T132354Z
LAST-MODIFIED:20221223T132354Z
UID:463-1674297000-1674302400@effetpapillon.bzh
SUMMARY:Massage solidaire
DESCRIPTION:Yve\, praticienne certifiée de la Méthode Camilli\, propose des massages solidaires les samedis matins. \nTarif: 10 euros la demie-heure. \nRéservations au 06 70 27 81 08
URL:https://effetpapillon.bzh/event/massage-solidaire-2/
LOCATION:Effet Papillon\, 19\, route de Locminé\, Baud\, 56150
CATEGORIES:Bien-être
END:VEVENT
BEGIN:VEVENT
DTSTART;TZID=Europe/Paris:20230124T140000
DTEND;TZID=Europe/Paris:20230124T170000
DTSTAMP:20260420T005401
CREATED:20221223T131646Z
LAST-MODIFIED:20221223T131646Z
UID:451-1674568800-1674579600@effetpapillon.bzh
SUMMARY:Tricot et crochet
DESCRIPTION:Anne\, grande amatrice de fils\, vous invite à vous essayer ou vous perfectionner au tricot et au crochet. \nInscription au 09 51 58 11 50.
URL:https://effetpapillon.bzh/event/tricot-et-crochet-4/
LOCATION:Effet Papillon\, 19\, route de Locminé\, Baud\, 56150
CATEGORIES:Artisanat
END:VEVENT
BEGIN:VEVENT
DTSTART;TZID=Europe/Paris:20230124T180000
DTEND;TZID=Europe/Paris:20230124T190000
DTSTAMP:20260420T005401
CREATED:20221223T131241Z
LAST-MODIFIED:20221223T131241Z
UID:443-1674583200-1674586800@effetpapillon.bzh
SUMMARY:Yoga du rire
DESCRIPTION:Envie de débuter cette nouvelle année sous le signe du rire et de la décompression ? Venez participer aux côtés de Sylvie aux séances de yoga du rire ! \nInscriptions au 06 83 68 69 46
URL:https://effetpapillon.bzh/event/yoga-du-rire-2/
LOCATION:Effet Papillon\, 19\, route de Locminé\, Baud\, 56150
CATEGORIES:Bien-être
END:VEVENT
BEGIN:VEVENT
DTSTART;TZID=Europe/Paris:20230128T103000
DTEND;TZID=Europe/Paris:20230128T120000
DTSTAMP:20260420T005401
CREATED:20221223T132430Z
LAST-MODIFIED:20221223T132430Z
UID:465-1674901800-1674907200@effetpapillon.bzh
SUMMARY:Massage solidaire
DESCRIPTION:Yve\, praticienne certifiée de la Méthode Camilli\, propose des massages solidaires les samedis matins. \nTarif: 10 euros la demie-heure. \nRéservations au 06 70 27 81 08
URL:https://effetpapillon.bzh/event/massage-solidaire-3/
LOCATION:Effet Papillon\, 19\, route de Locminé\, Baud\, 56150
CATEGORIES:Bien-être
END:VEVENT
BEGIN:VEVENT
DTSTART;TZID=Europe/Paris:20230128T140000
DTEND;TZID=Europe/Paris:20230128T170000
DTSTAMP:20260420T005401
CREATED:20221223T132049Z
LAST-MODIFIED:20221223T132049Z
UID:457-1674914400-1674925200@effetpapillon.bzh
SUMMARY:Couture Papote
DESCRIPTION:Marie-Charlotte\, de l’Atelier Marlotte\, vous propose de venir partager vos expériences de couture et de venir coudre en papotant ! Attention\, il s’agit d’un moment passé à coudre à plusieurs\, et non pas d’un cours ! \nInscriptions au 06 58 09 09 61.
URL:https://effetpapillon.bzh/event/couture-papote/
LOCATION:Effet Papillon\, 19\, route de Locminé\, Baud\, 56150
CATEGORIES:Artisanat
END:VEVENT
BEGIN:VEVENT
DTSTART;TZID=Europe/Paris:20230131T140000
DTEND;TZID=Europe/Paris:20230131T170000
DTSTAMP:20260420T005401
CREATED:20221223T131713Z
LAST-MODIFIED:20221223T131713Z
UID:453-1675173600-1675184400@effetpapillon.bzh
SUMMARY:Tricot et crochet
DESCRIPTION:Anne\, grande amatrice de fils\, vous invite à vous essayer ou vous perfectionner au tricot et au crochet. \nInscription au 09 51 58 11 50.
URL:https://effetpapillon.bzh/event/tricot-et-crochet-5/
LOCATION:Effet Papillon\, 19\, route de Locminé\, Baud\, 56150
CATEGORIES:Artisanat
END:VEVENT
END:VCALENDAR