BEGIN:VCALENDAR
VERSION:2.0
PRODID:-//L&#039;Effet Papillon - ECPv6.15.17.1//NONSGML v1.0//EN
CALSCALE:GREGORIAN
METHOD:PUBLISH
X-ORIGINAL-URL:https://effetpapillon.bzh
X-WR-CALDESC:Évènements pour L&#039;Effet Papillon
REFRESH-INTERVAL;VALUE=DURATION:PT1H
X-Robots-Tag:noindex
X-PUBLISHED-TTL:PT1H
BEGIN:VTIMEZONE
TZID:Europe/Paris
BEGIN:DAYLIGHT
TZOFFSETFROM:+0100
TZOFFSETTO:+0200
TZNAME:CEST
DTSTART:20220327T010000
END:DAYLIGHT
BEGIN:STANDARD
TZOFFSETFROM:+0200
TZOFFSETTO:+0100
TZNAME:CET
DTSTART:20221030T010000
END:STANDARD
BEGIN:DAYLIGHT
TZOFFSETFROM:+0100
TZOFFSETTO:+0200
TZNAME:CEST
DTSTART:20230326T010000
END:DAYLIGHT
BEGIN:STANDARD
TZOFFSETFROM:+0200
TZOFFSETTO:+0100
TZNAME:CET
DTSTART:20231029T010000
END:STANDARD
BEGIN:DAYLIGHT
TZOFFSETFROM:+0100
TZOFFSETTO:+0200
TZNAME:CEST
DTSTART:20240331T010000
END:DAYLIGHT
BEGIN:STANDARD
TZOFFSETFROM:+0200
TZOFFSETTO:+0100
TZNAME:CET
DTSTART:20241027T010000
END:STANDARD
END:VTIMEZONE
BEGIN:VEVENT
DTSTART;TZID=Europe/Paris:20230114T100000
DTEND;TZID=Europe/Paris:20230408T190000
DTSTAMP:20260419T233316
CREATED:20230113T155152Z
LAST-MODIFIED:20230113T155152Z
UID:485-1673690400-1680980400@effetpapillon.bzh
SUMMARY:Exposition collective
DESCRIPTION:Du 14 janvier au 8 avril 2023\, venez réfléchir et voyager en découvrant l’exposition collective au premier étage de l’Effet Papillon :\n\nPoing Virgule présente ses collages\, issus d’une série intitulée « Sens de la vie »\, qui interroge sur le sens à donner\, le sens que l’on donne\, sens caché et parfois interdit.\nFrançois Puyplat\, au travers de ses photographies\, explore les recoins de la recyclerie Retritout et interroge le sens de notre société\, de nos modes de consommation et nous amène à nous questionner sur la transition que nous souhaitons.\nLe GEM L’Harmonie de Locminé a réalisé des œuvres en relief; « quand les déchets deviennent des œuvres d’art » est le résultat d’un questionnement sur les déchets et l’occasion de dresser un pont entre art et santé mentale.
URL:https://effetpapillon.bzh/event/exposition-collective/
LOCATION:Effet Papillon\, 19\, route de Locminé\, Baud\, 56150
CATEGORIES:Art
END:VEVENT
BEGIN:VEVENT
DTSTART;TZID=Europe/Paris:20230201T163000
DTEND;TZID=Europe/Paris:20230201T183000
DTSTAMP:20260419T233316
CREATED:20230113T155310Z
LAST-MODIFIED:20230113T155310Z
UID:487-1675269000-1675276200@effetpapillon.bzh
SUMMARY:Vernissage de l'exposition collective
DESCRIPTION:Le vernissage de cette exposition collective est prévu le mercredi 1er février à 16h30 dans les locaux de l’Effet Papillon en présence des artistes et suivi d’un moment musical animé par le groupe « Dames de cœur ».
URL:https://effetpapillon.bzh/event/vernissage-de-lexposition-collective/
LOCATION:Effet Papillon\, 19\, route de Locminé\, Baud\, 56150
CATEGORIES:Art
END:VEVENT
BEGIN:VEVENT
DTSTART;TZID=Europe/Paris:20230201T163000
DTEND;TZID=Europe/Paris:20230201T183000
DTSTAMP:20260419T233316
CREATED:20230127T165942Z
LAST-MODIFIED:20230127T165942Z
UID:495-1675269000-1675276200@effetpapillon.bzh
SUMMARY:Vernissage de l'exposition collective
DESCRIPTION:Poing Virgule présente ses collages\, issus d’une série intitulée « Sens de la vie »\, qui interroge sur le sens à donner\, le sens que l’on donne\, sens caché et parfois interdit.\nFrançois Puyplat\, au travers de ses photographies\, explore les recoins de la recyclerie Retritout et interroge le sens de notre société\, de nos modes de consommation et nous amène à nous questionner sur la transition que nous souhaitons.\nLe GEM L’Harmonie de Locminé a réalisé des œuvres en relief; « quand les déchets deviennent des œuvres d’art » est le résultat d’un questionnement sur les déchets et l’occasion de dresser un pont entre art et santé mentale.\n\n\nLe vernissage de cette exposition est le mercredi 1er février à 16h30 dans les locaux de l’Effet Papillon en présence des artistes et suivi d’un moment musical animé par le groupe « Dames de cœur ».
URL:https://effetpapillon.bzh/event/vernissage-de-lexposition-collective-2/
LOCATION:Effet Papillon\, 19\, route de Locminé\, Baud\, 56150
CATEGORIES:Art
END:VEVENT
BEGIN:VEVENT
DTSTART;TZID=Europe/Paris:20230204T093000
DTEND;TZID=Europe/Paris:20230204T123000
DTSTAMP:20260419T233316
CREATED:20230131T150923Z
LAST-MODIFIED:20230131T150923Z
UID:499-1675503000-1675513800@effetpapillon.bzh
SUMMARY:Atelier parentalité
DESCRIPTION:Cécile Le Gal\, en formation de consultante en parentalité\, anime l’atelier « Comment les enfants apprennent ? ». \nPour de plus amples informations\, veuillez la contacter au 06 33 52 67 29 ou par mail: legalcecile9@gmail.com
URL:https://effetpapillon.bzh/event/atelier-parentalite/
LOCATION:Effet Papillon\, 19\, route de Locminé\, Baud\, 56150
CATEGORIES:Parentalité
END:VEVENT
BEGIN:VEVENT
DTSTART;TZID=Europe/Paris:20230207T140000
DTEND;TZID=Europe/Paris:20230207T160000
DTSTAMP:20260419T233316
CREATED:20230131T151503Z
LAST-MODIFIED:20230131T151503Z
UID:502-1675778400-1675785600@effetpapillon.bzh
SUMMARY:Atelier tricot et crochet
DESCRIPTION:Rendez-vous tous les mardis de 14h à 16h dans nos locaux !\nQue vous soyez expert.e ou débutant.e\, venez partager ou découvrir au fil de cet atelier animé par Anne !\nPrix libre et conscient.
URL:https://effetpapillon.bzh/event/atelier-tricot-et-crochet/
LOCATION:Effet Papillon\, 19\, route de Locminé\, Baud\, 56150
CATEGORIES:Artisanat
END:VEVENT
BEGIN:VEVENT
DTSTART;TZID=Europe/Paris:20230207T180000
DTEND;TZID=Europe/Paris:20230207T190000
DTSTAMP:20260419T233316
CREATED:20230131T153419Z
LAST-MODIFIED:20230131T153419Z
UID:524-1675792800-1675796400@effetpapillon.bzh
SUMMARY:Yoga du rire
DESCRIPTION:Rire pour renforcer son système immunitaire\, rire pour chasser le stress\, rire à plusieurs pour gagner en bien-être et en positif…\nSylvie propose des séances de yoga du rire à l’Effet Papillon deux mardis par mois\, de 18h à 19h15.\n\n\n\nInscriptions et renseignements: sylvie.tronscorff@orange.fr ou 06 83 68 69 46.
URL:https://effetpapillon.bzh/event/yoga-du-rire-3/
LOCATION:Effet Papillon\, 19\, route de Locminé\, Baud\, 56150
CATEGORIES:Bien-être
END:VEVENT
BEGIN:VEVENT
DTSTART;TZID=Europe/Paris:20230210T150000
DTEND;TZID=Europe/Paris:20230210T170000
DTSTAMP:20260419T233316
CREATED:20230208T154416Z
LAST-MODIFIED:20230208T154416Z
UID:539-1676041200-1676048400@effetpapillon.bzh
SUMMARY:Atelier de peinture méditative
DESCRIPTION:Venez participer aux Ateliers de Peinture Intuitive & Peinture Abstraite :\n une expérience créative\,  un temps pour Soi\,\n un moment de relaxation et de dialogue avec son Âme. \nAprès chaque Atelier\, vous partirez avec votre œuvre réalisée  : différents sujets\, différentes intentions\, différentes techniques ! \nPas besoin de savoir peindre\, je vous accompagne dans la réalisation de votre peinture intuitive . \nPas d’obligation de résultat\, vous créez pour le plaisir \, votre intuition viendra\, sûrement\, vous aider . \nLe matériel nécessaire est fourni  \n Durée : 2 heures\n Public : Adultes\n Tarif : 20 €\n(Une participation à l’achat du matériel de 5 € est demandée lors de votre premier atelier) \n Inscriptions :\n–  Instagram : @atelier_du_bonheur_de_lilia\n : 06 31 29 93 76\n : atelierdubonheurdelilia@gmail.com
URL:https://effetpapillon.bzh/event/atelier-de-peinture-meditative/
LOCATION:Effet Papillon\, 19\, route de Locminé\, Baud\, 56150
CATEGORIES:Art
END:VEVENT
BEGIN:VEVENT
DTSTART;TZID=Europe/Paris:20230210T180000
DTEND;TZID=Europe/Paris:20230210T213000
DTSTAMP:20260419T233316
CREATED:20230131T151951Z
LAST-MODIFIED:20230131T151951Z
UID:510-1676052000-1676064600@effetpapillon.bzh
SUMMARY:Atelier parentalité
DESCRIPTION:Cécile Le Gal\, en formation de consultante en parentalité\, anime l’atelier « Renaitre à soi-même en accompagnant ses enfants». \nPour de plus amples informations\, veuillez la contacter au 06 33 52 67 29 ou par mail: legalcecile9@gmail.com
URL:https://effetpapillon.bzh/event/atelier-parentalite-2/
LOCATION:Effet Papillon\, 19\, route de Locminé\, Baud\, 56150
CATEGORIES:Parentalité
END:VEVENT
BEGIN:VEVENT
DTSTART;TZID=Europe/Paris:20230211T100000
DTEND;TZID=Europe/Paris:20230211T163000
DTSTAMP:20260419T233316
CREATED:20230131T153218Z
LAST-MODIFIED:20230131T153218Z
UID:522-1676109600-1676133000@effetpapillon.bzh
SUMMARY:Stage de handpan
DESCRIPTION:Vous souhaitez découvrir le handpan ? Vous souhaitez vous laisser emporter par les vibrations de cet instrument ?\nJulien Propose un stage de handpan pour les débutants: de 10h à 12h30 ou de 14h à 16h30.\n\n\nInscrivez-vous au 06 08 09 24 06 ou par email : diditaps@wanadoo.fr
URL:https://effetpapillon.bzh/event/stage-de-handpan/
LOCATION:Effet Papillon\, 19\, route de Locminé\, Baud\, 56150
CATEGORIES:Musique
END:VEVENT
BEGIN:VEVENT
DTSTART;TZID=Europe/Paris:20230211T103000
DTEND;TZID=Europe/Paris:20230211T123000
DTSTAMP:20260419T233316
CREATED:20230131T152301Z
LAST-MODIFIED:20230131T152301Z
UID:512-1676111400-1676118600@effetpapillon.bzh
SUMMARY:Massages solidaires
DESCRIPTION:Yve\, praticienne certifiée de la méthode Camilli\, propose des massages sensitifs à des prix solidaires: 10 euros la demie-heure. \nContactez Yve au 06 70 27 81 08 pour toute réservation ou tout renseignement.
URL:https://effetpapillon.bzh/event/massages-solidaires-2/
LOCATION:Effet Papillon\, 19\, route de Locminé\, Baud\, 56150
CATEGORIES:Bien-être
END:VEVENT
BEGIN:VEVENT
DTSTART;TZID=Europe/Paris:20230211T143000
DTEND;TZID=Europe/Paris:20230211T163000
DTSTAMP:20260419T233316
CREATED:20230131T152532Z
LAST-MODIFIED:20230131T152532Z
UID:516-1676125800-1676133000@effetpapillon.bzh
SUMMARY:Atelier d'écriture
DESCRIPTION:L’atelier d’écriture\, animé par Daphné Babin\, reprend\, tous les deuxièmes samedis du mois .\nIl mélange jeux d’écriture\, créations individuelles et collectives et lectures.\nPrix libre et conscient.\n\nPour de plus amples renseignements\, contactez Daphné au 06 58 78 11 06.
URL:https://effetpapillon.bzh/event/atelier-decriture-3/
LOCATION:Effet Papillon\, 19\, route de Locminé\, Baud\, 56150
CATEGORIES:Ecriture
END:VEVENT
BEGIN:VEVENT
DTSTART;TZID=Europe/Paris:20230214T140000
DTEND;TZID=Europe/Paris:20230214T160000
DTSTAMP:20260419T233316
CREATED:20230131T151548Z
LAST-MODIFIED:20230131T151548Z
UID:504-1676383200-1676390400@effetpapillon.bzh
SUMMARY:Atelier tricot et crochet
DESCRIPTION:Rendez-vous tous les mardis de 14h à 16h dans nos locaux !\nQue vous soyez expert.e ou débutant.e\, venez partager ou découvrir au fil de cet atelier animé par Anne !\nPrix libre et conscient.
URL:https://effetpapillon.bzh/event/atelier-tricot-et-crochet-2/
LOCATION:Effet Papillon\, 19\, route de Locminé\, Baud\, 56150
END:VEVENT
BEGIN:VEVENT
DTSTART;TZID=Europe/Paris:20230217T143000
DTEND;TZID=Europe/Paris:20230217T163000
DTSTAMP:20260419T233316
CREATED:20230210T094214Z
LAST-MODIFIED:20230210T094214Z
UID:546-1676644200-1676651400@effetpapillon.bzh
SUMMARY:Atelier de peinture méditative
DESCRIPTION:Venez participer aux Ateliers de Peinture Intuitive & Peinture Abstraite à l’Effet Papillon :\n une expérience créative\,  un temps pour Soi\,\n un moment de relaxation et de dialogue avec son Âme.\n\n\nAprès chaque Atelier\, vous partirez avec votre œuvre réalisée  : différents sujets\, différentes intentions\, différentes techniques !\n\n\nPas besoin de savoir peindre\, je vous accompagne dans la réalisation de votre peinture intuitive .\n\n\nPas d’obligation de résultat\, vous créez pour le plaisir \, votre intuition viendra\, sûrement\, vous aider .\n\n\nLe matériel nécessaire est fourni \n\n\n Lieu : Recyclerie L’Effet Papillon \,\n19\, route de Locminé\n56150 BAUD\n Prochaine date : Vendredi 10 Février à 14h30\n Durée : 2 heures\n Public : Adultes\n Tarif : 20 €\n(Une participation à l’achat du matériel de 5 € est demandée lors de votre premier atelier)\n\n\n Inscriptions :\n– Instagram : @atelier_du_bonheur_de_lilia\n : 06 31 29 93 76\n : atelierdubonheurdelilia@gmail.com
URL:https://effetpapillon.bzh/event/atelier-de-peinture-meditative-2/
LOCATION:Effet Papillon\, 19\, route de Locminé\, Baud\, 56150
CATEGORIES:Art
END:VEVENT
BEGIN:VEVENT
DTSTART;TZID=Europe/Paris:20230221T140000
DTEND;TZID=Europe/Paris:20230221T160000
DTSTAMP:20260419T233316
CREATED:20230131T151647Z
LAST-MODIFIED:20230131T151647Z
UID:506-1676988000-1676995200@effetpapillon.bzh
SUMMARY:Atelier tricot et crochet
DESCRIPTION:Rendez-vous tous les mardis de 14h à 16h dans nos locaux !\nQue vous soyez expert.e ou débutant.e\, venez partager ou découvrir au fil de cet atelier animé par Anne !\nPrix libre et conscient.
URL:https://effetpapillon.bzh/event/atelier-tricot-et-crochet-3/
LOCATION:Effet Papillon\, 19\, route de Locminé\, Baud\, 56150
CATEGORIES:Artisanat
END:VEVENT
BEGIN:VEVENT
DTSTART;TZID=Europe/Paris:20230221T180000
DTEND;TZID=Europe/Paris:20230221T190000
DTSTAMP:20260419T233316
CREATED:20230131T153509Z
LAST-MODIFIED:20230131T153509Z
UID:527-1677002400-1677006000@effetpapillon.bzh
SUMMARY:Yoga du rire
DESCRIPTION:Rire pour renforcer son système immunitaire\, rire pour chasser le stress\, rire à plusieurs pour gagner en bien-être et en positif…\nSylvie propose des séances de yoga du rire à l’Effet Papillon deux mardis par mois\, de 18h à 19h15.\n\n\n\nInscriptions et renseignements: sylvie.tronscorff@orange.fr ou 06 83 68 69 46.
URL:https://effetpapillon.bzh/event/yoga-du-rire-4/
LOCATION:Effet Papillon\, 19\, route de Locminé\, Baud\, 56150
CATEGORIES:Bien-être
END:VEVENT
BEGIN:VEVENT
DTSTART;TZID=Europe/Paris:20230222T143000
DTEND;TZID=Europe/Paris:20230222T163000
DTSTAMP:20260419T233316
CREATED:20230131T155053Z
LAST-MODIFIED:20230131T155053Z
UID:533-1677076200-1677083400@effetpapillon.bzh
SUMMARY:Tourne ta crêpe !
DESCRIPTION:Vous voulez apprendre à tourner des crêpes ? La billig vous attire et vous n’avez jamais osé vous en approcher ? \nC’est l’occasion de venir à l’Effet Papillon ! \nAttention\, il faut réserver car les places sont limitées à 6 personnes: coworking.danslensemble@gmail.com \n  \n 
URL:https://effetpapillon.bzh/event/tourne-ta-crepe/
LOCATION:Effet Papillon\, 19\, route de Locminé\, Baud\, 56150
CATEGORIES:Cuisine
END:VEVENT
BEGIN:VEVENT
DTSTART;TZID=Europe/Paris:20230225T103000
DTEND;TZID=Europe/Paris:20230225T123000
DTSTAMP:20260419T233316
CREATED:20230131T153656Z
LAST-MODIFIED:20230131T153656Z
UID:529-1677321000-1677328200@effetpapillon.bzh
SUMMARY:Massages solidaires
DESCRIPTION:Yve\, praticienne certifiée de la méthode Camilli\, propose des massages sensitifs à des prix solidaires: 10 euros la demie-heure. \nContactez Yve au 06 70 27 81 08 pour toute réservation ou tout renseignement.
URL:https://effetpapillon.bzh/event/massages-solidaires-3/
LOCATION:Effet Papillon\, 19\, route de Locminé\, Baud\, 56150
CATEGORIES:Bien-être
END:VEVENT
BEGIN:VEVENT
DTSTART;TZID=Europe/Paris:20230225T140000
DTEND;TZID=Europe/Paris:20230225T170000
DTSTAMP:20260419T233316
CREATED:20230131T152757Z
LAST-MODIFIED:20230131T152757Z
UID:519-1677333600-1677344400@effetpapillon.bzh
SUMMARY:Couture Papote
DESCRIPTION:Rendez-vous à l’Effet Papillon tous les derniers vendredi du mois pour échanger entre passionné.e.s de couture !\nTemps convivial autour de la couture animé par Marie-Charlotte de l’Atelier Marlotte.\nPrix libre et conscient.\n\n\nPour plus de renseignements\, contactez Marie-Charlotte au : 06 58 09 09 61.
URL:https://effetpapillon.bzh/event/couture-papote-2/
LOCATION:Effet Papillon\, 19\, route de Locminé\, Baud\, 56150
CATEGORIES:Couture
END:VEVENT
BEGIN:VEVENT
DTSTART;TZID=Europe/Paris:20230225T143000
DTEND;TZID=Europe/Paris:20230225T173000
DTSTAMP:20260419T233316
CREATED:20230131T154025Z
LAST-MODIFIED:20230131T155257Z
UID:531-1677335400-1677346200@effetpapillon.bzh
SUMMARY:Vente de crêpes
DESCRIPTION:Pour les as du tournage de crêpes\, pour les passionné.e.s de la billig\, venez tourner et tourner et tourner toute une après-midi\, garnir et et vendre les bonnes crêpes toutes chaudes ! \nPlaces limitées à 6 personnes. Réservations par mail : coworking.danslensemble@gmail.com \nEt que vous soyez pâte à tartiner\, plutôt confitures\, ou bien seulement beurre sucre\, venez faire un tour à l’Effet Papillon ! Chiner en dégustant un thé ou un café tout en se régalant de crêpes toutes chaudes faites sur place\, quoi de plus sympathique !
URL:https://effetpapillon.bzh/event/vente-de-crepes/
LOCATION:Effet Papillon\, 19\, route de Locminé\, Baud\, 56150
CATEGORIES:Cuisine
END:VEVENT
BEGIN:VEVENT
DTSTART;TZID=Europe/Paris:20230228T140000
DTEND;TZID=Europe/Paris:20230228T160000
DTSTAMP:20260419T233316
CREATED:20230131T151729Z
LAST-MODIFIED:20230131T151729Z
UID:508-1677592800-1677600000@effetpapillon.bzh
SUMMARY:Atelier tricot et crochet
DESCRIPTION:Rendez-vous tous les mardis de 14h à 16h dans nos locaux !\nQue vous soyez expert.e ou débutant.e\, venez partager ou découvrir au fil de cet atelier animé par Anne !\nPrix libre et conscient.
URL:https://effetpapillon.bzh/event/atelier-tricot-et-crochet-4/
LOCATION:Effet Papillon\, 19\, route de Locminé\, Baud\, 56150
CATEGORIES:Artisanat
END:VEVENT
END:VCALENDAR