BEGIN:VCALENDAR
VERSION:2.0
PRODID:-//L&#039;Effet Papillon - ECPv6.15.17.1//NONSGML v1.0//EN
CALSCALE:GREGORIAN
METHOD:PUBLISH
X-ORIGINAL-URL:https://effetpapillon.bzh
X-WR-CALDESC:Évènements pour L&#039;Effet Papillon
REFRESH-INTERVAL;VALUE=DURATION:PT1H
X-Robots-Tag:noindex
X-PUBLISHED-TTL:PT1H
BEGIN:VTIMEZONE
TZID:Europe/Paris
BEGIN:DAYLIGHT
TZOFFSETFROM:+0100
TZOFFSETTO:+0200
TZNAME:CEST
DTSTART:20220327T010000
END:DAYLIGHT
BEGIN:STANDARD
TZOFFSETFROM:+0200
TZOFFSETTO:+0100
TZNAME:CET
DTSTART:20221030T010000
END:STANDARD
BEGIN:DAYLIGHT
TZOFFSETFROM:+0100
TZOFFSETTO:+0200
TZNAME:CEST
DTSTART:20230326T010000
END:DAYLIGHT
BEGIN:STANDARD
TZOFFSETFROM:+0200
TZOFFSETTO:+0100
TZNAME:CET
DTSTART:20231029T010000
END:STANDARD
BEGIN:DAYLIGHT
TZOFFSETFROM:+0100
TZOFFSETTO:+0200
TZNAME:CEST
DTSTART:20240331T010000
END:DAYLIGHT
BEGIN:STANDARD
TZOFFSETFROM:+0200
TZOFFSETTO:+0100
TZNAME:CET
DTSTART:20241027T010000
END:STANDARD
END:VTIMEZONE
BEGIN:VEVENT
DTSTART;TZID=Europe/Paris:20230502T080000
DTEND;TZID=Europe/Paris:20230715T170000
DTSTAMP:20260419T184644
CREATED:20230502T132909Z
LAST-MODIFIED:20230502T132909Z
UID:717-1683014400-1689440400@effetpapillon.bzh
SUMMARY:Exposition Imaginarium
DESCRIPTION:Du 15 avril à la mi-juillet\, entrez dans « Imaginarium » \, un univers décalé\, entre onirisme\, surréalisme\, humour et invitation au voyage poétique d’un collectif d’artistes dunkerquois !
URL:https://effetpapillon.bzh/event/exposition-imaginarium/
LOCATION:Effet Papillon\, 19\, route de Locminé\, Baud\, 56150
CATEGORIES:Art
END:VEVENT
BEGIN:VEVENT
DTSTART;TZID=Europe/Paris:20230502T140000
DTEND;TZID=Europe/Paris:20230502T160000
DTSTAMP:20260419T184644
CREATED:20230502T131315Z
LAST-MODIFIED:20230502T131315Z
UID:689-1683036000-1683043200@effetpapillon.bzh
SUMMARY:Atelier tricot et crochet
DESCRIPTION:Rendez-vous tous les mardis de 14h à 16h dans nos locaux ! Que vous soyez expert.e ou débutant.e\, venez partager ou découvrir au fil de cet atelier animé par Anne ! Prix libre et conscient.
URL:https://effetpapillon.bzh/event/atelier-tricot-et-crochet-13/
LOCATION:Effet Papillon\, 19\, route de Locminé\, Baud\, 56150
CATEGORIES:Artisanat
END:VEVENT
BEGIN:VEVENT
DTSTART;TZID=Europe/Paris:20230509T140000
DTEND;TZID=Europe/Paris:20230509T160000
DTSTAMP:20260419T184644
CREATED:20230502T131358Z
LAST-MODIFIED:20230502T131358Z
UID:691-1683640800-1683648000@effetpapillon.bzh
SUMMARY:Atelier tricot et crochet
DESCRIPTION:Rendez-vous tous les mardis de 14h à 16h dans nos locaux ! Que vous soyez expert.e ou débutant.e\, venez partager ou découvrir au fil de cet atelier animé par Anne ! Prix libre et conscient.
URL:https://effetpapillon.bzh/event/atelier-tricot-et-crochet-14/
LOCATION:Effet Papillon\, 19\, route de Locminé\, Baud\, 56150
CATEGORIES:Artisanat
END:VEVENT
BEGIN:VEVENT
DTSTART;TZID=Europe/Paris:20230509T180000
DTEND;TZID=Europe/Paris:20230509T190000
DTSTAMP:20260419T184644
CREATED:20230502T131858Z
LAST-MODIFIED:20230502T131858Z
UID:701-1683655200-1683658800@effetpapillon.bzh
SUMMARY:Yoga du rire
DESCRIPTION:Du yoga pour se détendre\, du yoga pour décompresser et du yoga pour muscler son plus beau sourire\, voici les ateliers de yoga du rire animé par Sylvie 18h à 19h15.\nInformations et réservations au : 06 83 68 69 46.
URL:https://effetpapillon.bzh/event/yoga-du-rire-9/
LOCATION:Effet Papillon\, 19\, route de Locminé\, Baud\, 56150
CATEGORIES:Bien-être
END:VEVENT
BEGIN:VEVENT
DTSTART;TZID=Europe/Paris:20230510T150000
DTEND;TZID=Europe/Paris:20230510T163000
DTSTAMP:20260419T184644
CREATED:20230502T132051Z
LAST-MODIFIED:20230502T132051Z
UID:705-1683730800-1683736200@effetpapillon.bzh
SUMMARY:Atelier fabrication de bombes à graines
DESCRIPTION:Puisque c’est le printemps\, l’Effet Papillon vous propose un temps pour mettre les mains dans la terre\, en famille\, pour pouvoir faire par la suite quelques attentats végétaux : atelier bombes à graines. Accessible dès 4 ans\, à prix libre. Réservations: coworking.danslensemble@gmail.com
URL:https://effetpapillon.bzh/event/atelier-fabrication-de-bombes-a-graines/
LOCATION:Effet Papillon\, 19\, route de Locminé\, Baud\, 56150
CATEGORIES:Environnement
END:VEVENT
BEGIN:VEVENT
DTSTART;TZID=Europe/Paris:20230512T143000
DTEND;TZID=Europe/Paris:20230512T163000
DTSTAMP:20260419T184644
CREATED:20230502T132214Z
LAST-MODIFIED:20230502T132214Z
UID:707-1683901800-1683909000@effetpapillon.bzh
SUMMARY:Atelier peinture de mandalas
DESCRIPTION:Maryvonne vous entraîne dans son univers de peintures de mandalas\, qui permettent de se recentrer\, se ressourcer\, se détendre et de découvrir son potentiel créatif. Le tarif est participatif\, le matériel fourni.\nInscriptions au 06 18 11 33 64.
URL:https://effetpapillon.bzh/event/atelier-peinture-de-mandalas/
LOCATION:Effet Papillon\, 19\, route de Locminé\, Baud\, 56150
CATEGORIES:Art,Bien-être
END:VEVENT
BEGIN:VEVENT
DTSTART;TZID=Europe/Paris:20230513T090000
DTEND;TZID=Europe/Paris:20230513T120000
DTSTAMP:20260419T184644
CREATED:20230502T132313Z
LAST-MODIFIED:20230502T132313Z
UID:709-1683968400-1683979200@effetpapillon.bzh
SUMMARY:Stage de yoga
DESCRIPTION:Matinée dédiée au yoga à l’Effet Papillon: renforcer\, assouplir et relâcher corps et esprit ! Beau programme !\nRenseignements et réservations auprès d’Anna-Zita : 06 68 13 38 06.
URL:https://effetpapillon.bzh/event/stage-de-yoga/
LOCATION:Effet Papillon\, 19\, route de Locminé\, Baud\, 56150
CATEGORIES:Bien-être
END:VEVENT
BEGIN:VEVENT
DTSTART;TZID=Europe/Paris:20230513T143000
DTEND;TZID=Europe/Paris:20230513T163000
DTSTAMP:20260419T184644
CREATED:20230502T131710Z
LAST-MODIFIED:20230502T131710Z
UID:699-1683988200-1683995400@effetpapillon.bzh
SUMMARY:Atelier d'écriture
DESCRIPTION:L’atelier d’écriture\, animé par Daphné Babin\, reprend\, tous les deuxièmes samedis du mois .\nIl mélange jeux d’écriture\, créations individuelles et collectives et lectures.\nPrix libre et conscient.\n\nPour de plus amples renseignements\, contactez Daphné au 06 58 78 11 06.
URL:https://effetpapillon.bzh/event/atelier-decriture-6/
LOCATION:Effet Papillon\, 19\, route de Locminé\, Baud\, 56150
CATEGORIES:Ecriture
END:VEVENT
BEGIN:VEVENT
DTSTART;TZID=Europe/Paris:20230516T140000
DTEND;TZID=Europe/Paris:20230516T160000
DTSTAMP:20260419T184644
CREATED:20230502T131437Z
LAST-MODIFIED:20230502T131437Z
UID:693-1684245600-1684252800@effetpapillon.bzh
SUMMARY:Atelier tricot et crochet
DESCRIPTION:Rendez-vous tous les mardis de 14h à 16h dans nos locaux ! Que vous soyez expert.e ou débutant.e\, venez partager ou découvrir au fil de cet atelier animé par Anne ! Prix libre et conscient.
URL:https://effetpapillon.bzh/event/atelier-tricot-et-crochet-15/
LOCATION:Effet Papillon\, 19\, route de Locminé\, Baud\, 56150
CATEGORIES:Artisanat
END:VEVENT
BEGIN:VEVENT
DTSTART;TZID=Europe/Paris:20230517T140000
DTEND;TZID=Europe/Paris:20230517T170000
DTSTAMP:20260419T184644
CREATED:20230502T132438Z
LAST-MODIFIED:20230502T132438Z
UID:711-1684332000-1684342800@effetpapillon.bzh
SUMMARY:Atelier Journal créatif
DESCRIPTION:Marie-Laure vous invite à poursuivre l’exploration de votre intérieur grâce au journal créatif.\nTarif: 50 euros par personne.\nRéservations: 06 85 65 52 97.
URL:https://effetpapillon.bzh/event/atelier-journal-creatif/
LOCATION:Effet Papillon\, 19\, route de Locminé\, Baud\, 56150
CATEGORIES:Art,Bien-être
ORGANIZER;CN="Marie-Laure Guillemot":MAILTO:marylorguillemot@yahoo.com
END:VEVENT
BEGIN:VEVENT
DTSTART;TZID=Europe/Paris:20230520T170000
DTEND;TZID=Europe/Paris:20230520T190000
DTSTAMP:20260419T184644
CREATED:20230502T133019Z
LAST-MODIFIED:20230502T133019Z
UID:719-1684602000-1684609200@effetpapillon.bzh
SUMMARY:Concert - Les Intranquilles
DESCRIPTION:Christian Le Meut (chant\, clarinette…) et Pierre Kerlo (guitare\, chant…) vous présentent leur spectacle fait de chansons de leur cru : chansons drôles\, émouvantes\, révoltées… Ils emmènent les spectateurs en randonnée\, égratignent certains discours dominants comme le « travailler plus »\, se réjouissent du ciel bleu\, se solidarisent avec les exilés\, les sans papiers\, les sans abris.\nPourquoi « Intranquilles » ? Parce qu’ils le sont\, tranquilles\, en général\, sauf quand…
URL:https://effetpapillon.bzh/event/concert-les-intranquilles/
LOCATION:Effet Papillon\, 19\, route de Locminé\, Baud\, 56150
CATEGORIES:Musique
END:VEVENT
BEGIN:VEVENT
DTSTART;TZID=Europe/Paris:20230523T140000
DTEND;TZID=Europe/Paris:20230523T160000
DTSTAMP:20260419T184644
CREATED:20230502T131523Z
LAST-MODIFIED:20230502T131523Z
UID:695-1684850400-1684857600@effetpapillon.bzh
SUMMARY:Atelier tricot et crochet
DESCRIPTION:Rendez-vous tous les mardis de 14h à 16h dans nos locaux ! Que vous soyez expert.e ou débutant.e\, venez partager ou découvrir au fil de cet atelier animé par Anne ! Prix libre et conscient.
URL:https://effetpapillon.bzh/event/atelier-tricot-et-crochet-16/
LOCATION:Effet Papillon\, 19\, route de Locminé\, Baud\, 56150
CATEGORIES:Artisanat
END:VEVENT
BEGIN:VEVENT
DTSTART;TZID=Europe/Paris:20230523T180000
DTEND;TZID=Europe/Paris:20230523T190000
DTSTAMP:20260419T184644
CREATED:20230502T131940Z
LAST-MODIFIED:20230502T131940Z
UID:703-1684864800-1684868400@effetpapillon.bzh
SUMMARY:Yoga du rire
DESCRIPTION:Du yoga pour se détendre\, du yoga pour décompresser et du yoga pour muscler son plus beau sourire\, voici les ateliers de yoga du rire animé par Sylvie de 18h à 19h15.\nInformations et réservations au : 06 83 68 69 46.
URL:https://effetpapillon.bzh/event/yoga-du-rire-10/
LOCATION:Effet Papillon\, 19\, route de Locminé\, Baud\, 56150
CATEGORIES:Bien-être
END:VEVENT
BEGIN:VEVENT
DTSTART;TZID=Europe/Paris:20230524T140000
DTEND;TZID=Europe/Paris:20230524T170000
DTSTAMP:20260419T184644
CREATED:20230502T132527Z
LAST-MODIFIED:20230502T132527Z
UID:713-1684936800-1684947600@effetpapillon.bzh
SUMMARY:Atelier Journal créatif
DESCRIPTION:Marie-Laure vous invite à poursuivre l’exploration de votre intérieur grâce au journal créatif.\nTarif: 50 euros par personne.\nRéservations: 06 85 65 52 97.
URL:https://effetpapillon.bzh/event/atelier-journal-creatif-2/
LOCATION:Effet Papillon\, 19\, route de Locminé\, Baud\, 56150
CATEGORIES:Art,Bien-être
ORGANIZER;CN="Marie-Laure Guillemot":MAILTO:marylorguillemot@yahoo.com
END:VEVENT
BEGIN:VEVENT
DTSTART;TZID=Europe/Paris:20230526T200000
DTEND;TZID=Europe/Paris:20230526T220000
DTSTAMP:20260419T184644
CREATED:20230502T133128Z
LAST-MODIFIED:20230502T133128Z
UID:721-1685131200-1685138400@effetpapillon.bzh
SUMMARY:Spectacle-concert par Carnet
DESCRIPTION:Le duo Carnet vous présente son premier spectacle de chanson française théâtralisée.\n« Chantal & Gui sont des humains trentenaires qui vivent en France en 2023. Ce sont des gens sympathiques qui aiment rire\, manger des falafels et se balader en forêt.\nChantal & Gui se sentent plutôt impuissants face aux injustices sociales\, face au dérèglement climatique et à l’effondrement du vivant. Souvent\, la société les déprime.\nUn jour\, au milieu des feuilles mortes et des soleils descendants\, Chantal & Gui décident d’ouvrir leur carnet de chansons françaises. »\nCe spectacle vous est proposé à prix libre et conscient. Prévoyez de la monnaie pour soutenir les artistes !
URL:https://effetpapillon.bzh/event/spectacle-concert-par-carnet/
LOCATION:Effet Papillon\, 19\, route de Locminé\, Baud\, 56150
CATEGORIES:Art,Musique
END:VEVENT
BEGIN:VEVENT
DTSTART;TZID=Europe/Paris:20230527T093000
DTEND;TZID=Europe/Paris:20230527T123000
DTSTAMP:20260419T184644
CREATED:20230502T132620Z
LAST-MODIFIED:20230502T132620Z
UID:715-1685179800-1685190600@effetpapillon.bzh
SUMMARY:Atelier Journal créatif
DESCRIPTION:Marie-Laure vous invite à poursuivre l’exploration de votre intérieur grâce au journal créatif.\nTarif: 50 euros par personne.\nRéservations: 06 85 65 52 97.
URL:https://effetpapillon.bzh/event/atelier-journal-creatif-3/
LOCATION:Effet Papillon\, 19\, route de Locminé\, Baud\, 56150
CATEGORIES:Art,Bien-être
ORGANIZER;CN="Marie-Laure Guillemot":MAILTO:marylorguillemot@yahoo.com
END:VEVENT
BEGIN:VEVENT
DTSTART;TZID=Europe/Paris:20230527T140000
DTEND;TZID=Europe/Paris:20230527T170000
DTSTAMP:20260419T184644
CREATED:20230502T131155Z
LAST-MODIFIED:20230502T131155Z
UID:687-1685196000-1685206800@effetpapillon.bzh
SUMMARY:Couture/Papote
DESCRIPTION:Marie-Charlotte\, de l’Atelier Marlotte\, vous propose de venir partager vos expériences de couture et de venir coudre en papotant ! Attention\, il s’agit d’un moment passé à coudre à plusieurs\, et non pas d’un cours ! Inscriptions au 06 58 09 09 61.
URL:https://effetpapillon.bzh/event/couture-papote-3/
LOCATION:Effet Papillon\, 19\, route de Locminé\, Baud\, 56150
CATEGORIES:Couture
END:VEVENT
BEGIN:VEVENT
DTSTART;TZID=Europe/Paris:20230530T140000
DTEND;TZID=Europe/Paris:20230530T160000
DTSTAMP:20260419T184644
CREATED:20230502T131600Z
LAST-MODIFIED:20230502T131600Z
UID:697-1685455200-1685462400@effetpapillon.bzh
SUMMARY:Atelier tricot et crochet
DESCRIPTION:Rendez-vous tous les mardis de 14h à 16h dans nos locaux ! Que vous soyez expert.e ou débutant.e\, venez partager ou découvrir au fil de cet atelier animé par Anne ! Prix libre et conscient.
URL:https://effetpapillon.bzh/event/atelier-tricot-et-crochet-17/
LOCATION:Effet Papillon\, 19\, route de Locminé\, Baud\, 56150
CATEGORIES:Artisanat
END:VEVENT
END:VCALENDAR