BEGIN:VCALENDAR
VERSION:2.0
PRODID:-//L&#039;Effet Papillon - ECPv6.15.17.1//NONSGML v1.0//EN
CALSCALE:GREGORIAN
METHOD:PUBLISH
X-ORIGINAL-URL:https://effetpapillon.bzh
X-WR-CALDESC:Évènements pour L&#039;Effet Papillon
REFRESH-INTERVAL;VALUE=DURATION:PT1H
X-Robots-Tag:noindex
X-PUBLISHED-TTL:PT1H
BEGIN:VTIMEZONE
TZID:Europe/Paris
BEGIN:DAYLIGHT
TZOFFSETFROM:+0100
TZOFFSETTO:+0200
TZNAME:CEST
DTSTART:20220327T010000
END:DAYLIGHT
BEGIN:STANDARD
TZOFFSETFROM:+0200
TZOFFSETTO:+0100
TZNAME:CET
DTSTART:20221030T010000
END:STANDARD
BEGIN:DAYLIGHT
TZOFFSETFROM:+0100
TZOFFSETTO:+0200
TZNAME:CEST
DTSTART:20230326T010000
END:DAYLIGHT
BEGIN:STANDARD
TZOFFSETFROM:+0200
TZOFFSETTO:+0100
TZNAME:CET
DTSTART:20231029T010000
END:STANDARD
BEGIN:DAYLIGHT
TZOFFSETFROM:+0100
TZOFFSETTO:+0200
TZNAME:CEST
DTSTART:20240331T010000
END:DAYLIGHT
BEGIN:STANDARD
TZOFFSETFROM:+0200
TZOFFSETTO:+0100
TZNAME:CET
DTSTART:20241027T010000
END:STANDARD
END:VTIMEZONE
BEGIN:VEVENT
DTSTART;TZID=Europe/Paris:20230502T080000
DTEND;TZID=Europe/Paris:20230715T170000
DTSTAMP:20260419T152908
CREATED:20230502T132909Z
LAST-MODIFIED:20230502T132909Z
UID:717-1683014400-1689440400@effetpapillon.bzh
SUMMARY:Exposition Imaginarium
DESCRIPTION:Du 15 avril à la mi-juillet\, entrez dans « Imaginarium » \, un univers décalé\, entre onirisme\, surréalisme\, humour et invitation au voyage poétique d’un collectif d’artistes dunkerquois !
URL:https://effetpapillon.bzh/event/exposition-imaginarium/
LOCATION:Effet Papillon\, 19\, route de Locminé\, Baud\, 56150
CATEGORIES:Art
END:VEVENT
BEGIN:VEVENT
DTSTART;TZID=Europe/Paris:20230707T143000
DTEND;TZID=Europe/Paris:20230707T163000
DTSTAMP:20260419T152908
CREATED:20230628T160746Z
LAST-MODIFIED:20230628T160746Z
UID:774-1688740200-1688747400@effetpapillon.bzh
SUMMARY:Atelier de peinture intuitive
DESCRIPTION:Durant l’été\, Lilia propose toujours ses Ateliers de Peinture Intuitive & Peinture Abstraite : les vendredis 7 juillet et 4 août de 14h30 à 16h30 !\n une expérience créative\,  un temps pour Soi\,\n un moment de relaxation et de dialogue avec son Âme.\nAprès chaque Atelier\, vous partirez avec votre œuvre réalisée  : différents sujets\, différentes intentions\, différentes techniques !\nPas besoin de savoir peindre\, je vous accompagne dans la réalisation de votre peinture intuitive .\nPas d’obligation de résultat\, vous créez pour le plaisir \, votre intuition viendra\, sûrement\, vous aider .\nLe matériel nécessaire est fourni \n Durée : 2 heures\n Public : Adultes\n Tarif : 25 €\n Inscriptions :\n– Instagram : @atelier_du_bonheur_de_lilia\n : 06 31 29 93 76\n : atelierdubonheurdelilia@gmail.com
URL:https://effetpapillon.bzh/event/atelier-de-peinture-intuitive/
LOCATION:Effet Papillon\, 19\, route de Locminé\, Baud\, 56150
CATEGORIES:Art,Bien-être
END:VEVENT
BEGIN:VEVENT
DTSTART;TZID=Europe/Paris:20230707T143000
DTEND;TZID=Europe/Paris:20230707T163000
DTSTAMP:20260419T152908
CREATED:20230628T160933Z
LAST-MODIFIED:20230628T160933Z
UID:778-1688740200-1688747400@effetpapillon.bzh
SUMMARY:Atelier peinture de mandalas
DESCRIPTION:Le vendredi 7 juillet de 14h30 à 16h30: atelier mandalas à l’Effet Papillon avec Maryvonne qui vous entraîne dans son univers de peintures de mandalas\, qui permettent de se recentrer\, se ressourcer\, se détendre et de découvrir son potentiel créatif.\nLe tarif est participatif\, le matériel fourni.\nInscriptions au 06 18 11 33 64.
URL:https://effetpapillon.bzh/event/atelier-peinture-de-mandalas-3/
LOCATION:Effet Papillon\, 19\, route de Locminé\, Baud\, 56150
CATEGORIES:Art,Bien-être
END:VEVENT
BEGIN:VEVENT
DTSTART;TZID=Europe/Paris:20230708T120000
DTEND;TZID=Europe/Paris:20230708T180000
DTSTAMP:20260419T152908
CREATED:20230630T102623Z
LAST-MODIFIED:20230630T102623Z
UID:791-1688817600-1688839200@effetpapillon.bzh
SUMMARY:Festival L'Echappée
DESCRIPTION:Le samedi 8 juillet\, l’association Dans l’Ensemble sera présente dans l’espace Village du Festival L’Echappée organisé par Baud Communauté sur la commune de Saint Barthélémy ! Nous mettrons à l’honneur les objets bretons issus du réemploi. Nous animerons également deux ateliers dans l’après-midi : fabrication de bombes à graines et fabrication de moulins à vent !
URL:https://effetpapillon.bzh/event/festival-lechappee/
LOCATION:Kergallic\, Saint Barthélémy\, Kergallic\, Saint Barthélémy\, 56150
CATEGORIES:Artisanat,Culture,Environnement,Musique,Réemploi
END:VEVENT
BEGIN:VEVENT
DTSTART;TZID=Europe/Paris:20230708T143000
DTEND;TZID=Europe/Paris:20230708T163000
DTSTAMP:20260419T152908
CREATED:20230630T100535Z
LAST-MODIFIED:20230630T100535Z
UID:789-1688826600-1688833800@effetpapillon.bzh
SUMMARY:Atelier d'écriture
DESCRIPTION:L’atelier d’écriture\, animé par Daphné Babin\, reprend\, tous les deuxièmes samedis du mois .\nIl mélange jeux d’écriture\, créations individuelles et collectives et lectures.\nPrix libre et conscient.
URL:https://effetpapillon.bzh/event/atelier-decriture-8/
LOCATION:Effet Papillon\, 19\, route de Locminé\, Baud\, 56150
CATEGORIES:Ecriture
END:VEVENT
BEGIN:VEVENT
DTSTART;TZID=Europe/Paris:20230711T100000
DTEND;TZID=Europe/Paris:20230711T120000
DTSTAMP:20260419T152908
CREATED:20230706T085018Z
LAST-MODIFIED:20230706T085018Z
UID:843-1689069600-1689076800@effetpapillon.bzh
SUMMARY:Dentelle au fuseau
DESCRIPTION:Nolwenn\, de Bulles de Dentelle\, propose des cours de dentelle au fuseau cet été dans les locaux de l’Effet Papillon : le 11 juillet de 10h à 12h\, le 18 juillet de 14h à 16h et les 1er\, 22 et 29 août de 14h à 16h !\nL’atelier est au tarif de 32 euros.\nPour s’inscrire : 06 09 79 24 38.
URL:https://effetpapillon.bzh/event/dentelle-au-fuseau/
LOCATION:Effet Papillon\, 19\, route de Locminé\, Baud\, 56150
CATEGORIES:Artisanat
END:VEVENT
BEGIN:VEVENT
DTSTART;TZID=Europe/Paris:20230718T140000
DTEND;TZID=Europe/Paris:20230718T160000
DTSTAMP:20260419T152908
CREATED:20230706T085100Z
LAST-MODIFIED:20230706T085100Z
UID:845-1689688800-1689696000@effetpapillon.bzh
SUMMARY:Dentelle au fuseau
DESCRIPTION:Nolwenn\, de Bulles de Dentelle\, propose des cours de dentelle au fuseau cet été dans les locaux de l’Effet Papillon : le 11 juillet de 10h à 12h\, le 18 juillet de 14h à 16h et les 1er\, 22 et 29 août de 14h à 16h !\nL’atelier est au tarif de 32 euros.\nPour s’inscrire : 06 09 79 24 38.
URL:https://effetpapillon.bzh/event/dentelle-au-fuseau-2/
LOCATION:Effet Papillon\, 19\, route de Locminé\, Baud\, 56150
CATEGORIES:Artisanat
END:VEVENT
BEGIN:VEVENT
DTSTART;TZID=Europe/Paris:20230718T143000
DTEND;TZID=Europe/Paris:20230718T160000
DTSTAMP:20260419T152908
CREATED:20230628T161423Z
LAST-MODIFIED:20230628T161423Z
UID:786-1689690600-1689696000@effetpapillon.bzh
SUMMARY:Atelier de teinture textile
DESCRIPTION:Yve\, bénévole à l’Effet Papillon\, partagera le mardi 18 juillet ses secrets de teinture du textile à base de pelures d’oignons! Cet atelier se déroulera de 14h30 à 16h.\nComme toujours avec les ateliers de l’Effet Papillon\, c’est à prix libre et conscient ! Mais c’est plus simple pour nous si vous réservez : coworking.danslensemble@gmail.com
URL:https://effetpapillon.bzh/event/atelier-de-teinture-textile/
LOCATION:Effet Papillon\, 19\, route de Locminé\, Baud\, 56150
CATEGORIES:Environnement
END:VEVENT
BEGIN:VEVENT
DTSTART;TZID=Europe/Paris:20230721T143000
DTEND;TZID=Europe/Paris:20230721T160000
DTSTAMP:20260419T152908
CREATED:20230628T161053Z
LAST-MODIFIED:20230628T161053Z
UID:780-1689949800-1689955200@effetpapillon.bzh
SUMMARY:Comment associer les huiles essentielles au massage des mains ?
DESCRIPTION:Envie de prendre soin de vous ? Venez donc le vendredi 21 juillet de 14h30 à 16h !\nL’Atelier du bonheur de Lilia vous propose de venir apprendre à associer les propriétés des huiles essentielles aux bienfaits du massage des mains !\nAromatouch apporte bien-être et détente\, aide à réduire le stress\, l’anxiété\, les tensions et remonte le moral.\nIl peut soulager vos articulations\, soutenir votre immunité\, améliorer votre circulation.\nChacun trouvera les outils adaptés à ses besoins !\nTarif : 10 €\nNombre de participants limité\nRéservation et plus d’info : SMS au : 06 31 29 93 76
URL:https://effetpapillon.bzh/event/comment-associer-les-huiles-essentielles-au-massage-des-mains/
LOCATION:Effet Papillon\, 19\, route de Locminé\, Baud\, 56150
CATEGORIES:Bien-être
END:VEVENT
END:VCALENDAR